BEGIN:VCALENDAR
VERSION:2.0
PRODID:-//Hammersmith Chess Club - ECPv6.15.20//NONSGML v1.0//EN
CALSCALE:GREGORIAN
METHOD:PUBLISH
X-ORIGINAL-URL:https://hammerchess.co.uk
X-WR-CALDESC:Events for Hammersmith Chess Club
REFRESH-INTERVAL;VALUE=DURATION:PT1H
X-Robots-Tag:noindex
X-PUBLISHED-TTL:PT1H
BEGIN:VTIMEZONE
TZID:Europe/London
BEGIN:DAYLIGHT
TZOFFSETFROM:+0000
TZOFFSETTO:+0100
TZNAME:BST
DTSTART:20240331T010000
END:DAYLIGHT
BEGIN:STANDARD
TZOFFSETFROM:+0100
TZOFFSETTO:+0000
TZNAME:GMT
DTSTART:20241027T010000
END:STANDARD
BEGIN:DAYLIGHT
TZOFFSETFROM:+0000
TZOFFSETTO:+0100
TZNAME:BST
DTSTART:20250330T010000
END:DAYLIGHT
BEGIN:STANDARD
TZOFFSETFROM:+0100
TZOFFSETTO:+0000
TZNAME:GMT
DTSTART:20251026T010000
END:STANDARD
BEGIN:DAYLIGHT
TZOFFSETFROM:+0000
TZOFFSETTO:+0100
TZNAME:BST
DTSTART:20260329T010000
END:DAYLIGHT
BEGIN:STANDARD
TZOFFSETFROM:+0100
TZOFFSETTO:+0000
TZNAME:GMT
DTSTART:20261025T010000
END:STANDARD
END:VTIMEZONE
BEGIN:VEVENT
DTSTART;TZID=Europe/London:20250109T193000
DTEND;TZID=Europe/London:20250109T223000
DTSTAMP:20260422T234709
CREATED:20240915T192416Z
LAST-MODIFIED:20241031T182746Z
UID:8284-1736451000-1736461800@hammerchess.co.uk
SUMMARY:Thames Valley League Division 1: Hammersmith A vs Ealing A
DESCRIPTION:
URL:https://hammerchess.co.uk/event/thames-valley-league-division-1-hammersmith-a-vs-ealing-a-2/
LOCATION:MindSports Centre\, 21-23 Dalling Road\, London\, London\, W60JD\, United Kingdom
CATEGORIES:League Matches
ORGANIZER;CN="Bajrush Kelmendi":MAILTO:bajrush@tonisystems.co.uk
END:VEVENT
BEGIN:VEVENT
DTSTART;TZID=Europe/London:20250127T193000
DTEND;TZID=Europe/London:20250127T223000
DTSTAMP:20260422T234709
CREATED:20240915T192408Z
LAST-MODIFIED:20240924T160109Z
UID:8283-1738006200-1738017000@hammerchess.co.uk
SUMMARY:Thames Valley League Division 1: Kingston A vs Hammersmith A
DESCRIPTION:
URL:https://hammerchess.co.uk/event/thames-valley-league-division-1-kingston-a-vs-hammersmith-a-2/
LOCATION:Kingston\, Richard Mayo Centre at the United Reformed Church\, Eden Street\, Kingston\, Surrey\, KT1 1HZ\, United Kingdom
CATEGORIES:League Matches
ORGANIZER;CN="Bajrush Kelmendi":MAILTO:bajrush@tonisystems.co.uk
END:VEVENT
END:VCALENDAR