BEGIN:VCALENDAR
VERSION:2.0
PRODID:-//Hammersmith Chess Club - ECPv6.15.20//NONSGML v1.0//EN
CALSCALE:GREGORIAN
METHOD:PUBLISH
X-ORIGINAL-URL:https://hammerchess.co.uk
X-WR-CALDESC:Events for Hammersmith Chess Club
REFRESH-INTERVAL;VALUE=DURATION:PT1H
X-Robots-Tag:noindex
X-PUBLISHED-TTL:PT1H
BEGIN:VTIMEZONE
TZID:Europe/London
BEGIN:DAYLIGHT
TZOFFSETFROM:+0000
TZOFFSETTO:+0100
TZNAME:BST
DTSTART:20230326T010000
END:DAYLIGHT
BEGIN:STANDARD
TZOFFSETFROM:+0100
TZOFFSETTO:+0000
TZNAME:GMT
DTSTART:20231029T010000
END:STANDARD
BEGIN:DAYLIGHT
TZOFFSETFROM:+0000
TZOFFSETTO:+0100
TZNAME:BST
DTSTART:20240331T010000
END:DAYLIGHT
BEGIN:STANDARD
TZOFFSETFROM:+0100
TZOFFSETTO:+0000
TZNAME:GMT
DTSTART:20241027T010000
END:STANDARD
BEGIN:DAYLIGHT
TZOFFSETFROM:+0000
TZOFFSETTO:+0100
TZNAME:BST
DTSTART:20250330T010000
END:DAYLIGHT
BEGIN:STANDARD
TZOFFSETFROM:+0100
TZOFFSETTO:+0000
TZNAME:GMT
DTSTART:20251026T010000
END:STANDARD
END:VTIMEZONE
BEGIN:VEVENT
DTSTART;TZID=Europe/London:20240205T193000
DTEND;TZID=Europe/London:20240205T223000
DTSTAMP:20260423T181726
CREATED:20230930T130512Z
LAST-MODIFIED:20230930T130512Z
UID:7240-1707161400-1707172200@hammerchess.co.uk
SUMMARY:Thames Valley League Division 1: Ealing A vs Hammersmith A
DESCRIPTION:
URL:https://hammerchess.co.uk/event/thames-valley-league-division-1-ealing-a-vs-hammersmith-a/
LOCATION:Ealing\, Actonians Sport Club\, Gunnersbury Drive\, London\, W5 4LL\, United Kingdom
CATEGORIES:League Matches
ORGANIZER;CN="Bajrush Kelmendi":MAILTO:bajrush@tonisystems.co.uk
END:VEVENT
BEGIN:VEVENT
DTSTART;TZID=Europe/London:20240215T193000
DTEND;TZID=Europe/London:20240215T223000
DTSTAMP:20260423T181726
CREATED:20230930T130535Z
LAST-MODIFIED:20230930T130535Z
UID:7246-1708025400-1708036200@hammerchess.co.uk
SUMMARY:Thames Valley League Division 1: Hammersmith A vs Ealing A
DESCRIPTION:
URL:https://hammerchess.co.uk/event/thames-valley-league-division-1-hammersmith-a-vs-ealing-a/
LOCATION:MindSports Centre\, 21-23 Dalling Road\, London\, London\, W60JD\, United Kingdom
CATEGORIES:League Matches
ORGANIZER;CN="Bajrush Kelmendi":MAILTO:bajrush@tonisystems.co.uk
END:VEVENT
BEGIN:VEVENT
DTSTART;TZID=Europe/London:20240221T193000
DTEND;TZID=Europe/London:20240221T223000
DTSTAMP:20260423T181726
CREATED:20230930T130606Z
LAST-MODIFIED:20230930T130606Z
UID:7241-1708543800-1708554600@hammerchess.co.uk
SUMMARY:Thames Valley League Division 1: Surbiton A vs Hammersmith A
DESCRIPTION:
URL:https://hammerchess.co.uk/event/thames-valley-league-division-1-surbiton-a-vs-hammersmith-a/
LOCATION:Surbiton\, The Fircroft Trust\, 96 Ditton Road\, Surbiton\, Surrey\, KT66RH\, United Kingdom
CATEGORIES:League Matches
ORGANIZER;CN="Bajrush Kelmendi":MAILTO:bajrush@tonisystems.co.uk
END:VEVENT
END:VCALENDAR