BEGIN:VCALENDAR
VERSION:2.0
PRODID:-//Hammersmith Chess Club - ECPv6.15.20//NONSGML v1.0//EN
CALSCALE:GREGORIAN
METHOD:PUBLISH
X-WR-CALNAME:Hammersmith Chess Club
X-ORIGINAL-URL:https://hammerchess.co.uk
X-WR-CALDESC:Events for Hammersmith Chess Club
REFRESH-INTERVAL;VALUE=DURATION:PT1H
X-Robots-Tag:noindex
X-PUBLISHED-TTL:PT1H
BEGIN:VTIMEZONE
TZID:Europe/London
BEGIN:DAYLIGHT
TZOFFSETFROM:+0000
TZOFFSETTO:+0100
TZNAME:BST
DTSTART:20240331T010000
END:DAYLIGHT
BEGIN:STANDARD
TZOFFSETFROM:+0100
TZOFFSETTO:+0000
TZNAME:GMT
DTSTART:20241027T010000
END:STANDARD
BEGIN:DAYLIGHT
TZOFFSETFROM:+0000
TZOFFSETTO:+0100
TZNAME:BST
DTSTART:20250330T010000
END:DAYLIGHT
BEGIN:STANDARD
TZOFFSETFROM:+0100
TZOFFSETTO:+0000
TZNAME:GMT
DTSTART:20251026T010000
END:STANDARD
BEGIN:DAYLIGHT
TZOFFSETFROM:+0000
TZOFFSETTO:+0100
TZNAME:BST
DTSTART:20260329T010000
END:DAYLIGHT
BEGIN:STANDARD
TZOFFSETFROM:+0100
TZOFFSETTO:+0000
TZNAME:GMT
DTSTART:20261025T010000
END:STANDARD
END:VTIMEZONE
BEGIN:VEVENT
DTSTART;TZID=Europe/London:20250306T190000
DTEND;TZID=Europe/London:20250306T220000
DTSTAMP:20260421T120431
CREATED:20240915T192544Z
LAST-MODIFIED:20240915T192544Z
UID:8328-1741287600-1741298400@hammerchess.co.uk
SUMMARY:Middlesex League Division 3: Hammersmith 3 vs Hammersmith 4
DESCRIPTION:
URL:https://hammerchess.co.uk/event/middlesex-league-division-3-hammersmith-3-vs-hammersmith-4/
LOCATION:MindSports Centre\, 21-23 Dalling Road\, London\, London\, W60JD\, United Kingdom
CATEGORIES:League Matches
ORGANIZER;CN="Luna Eastham":MAILTO:lunaeastham@gmail.com
END:VEVENT
BEGIN:VEVENT
DTSTART;TZID=Europe/London:20250311T191500
DTEND;TZID=Europe/London:20250311T221500
DTSTAMP:20260421T120431
CREATED:20240915T192617Z
LAST-MODIFIED:20240915T192618Z
UID:8342-1741720500-1741731300@hammerchess.co.uk
SUMMARY:Middlesex League Division 3: Muswell Hill 2 vs Hammersmith 4
DESCRIPTION:
URL:https://hammerchess.co.uk/event/middlesex-league-division-3-muswell-hill-2-vs-hammersmith-4/
LOCATION:Muswell Hill\, Clissold Arms 105\, Fortis Green\, Muswell Hill\, London\, N2 9HR\, United Kingdom
CATEGORIES:League Matches
ORGANIZER;CN="Frantisek Zacek":MAILTO:czechripper@gmail.com
END:VEVENT
BEGIN:VEVENT
DTSTART;TZID=Europe/London:20250313T190000
DTEND;TZID=Europe/London:20250313T220000
DTSTAMP:20260421T120431
CREATED:20240915T192552Z
LAST-MODIFIED:20240915T192553Z
UID:8329-1741892400-1741903200@hammerchess.co.uk
SUMMARY:Middlesex League Division 3: Kings Head 3 vs Hammersmith 3
DESCRIPTION:
URL:https://hammerchess.co.uk/event/middlesex-league-division-3-kings-head-3-vs-hammersmith-3/
LOCATION:MindSports Centre\, 21-23 Dalling Road\, London\, London\, W60JD\, United Kingdom
CATEGORIES:League Matches
ORGANIZER;CN="Luna Eastham":MAILTO:lunaeastham@gmail.com
END:VEVENT
BEGIN:VEVENT
DTSTART;TZID=Europe/London:20250327T190000
DTEND;TZID=Europe/London:20250327T220000
DTSTAMP:20260421T120431
CREATED:20240915T192552Z
LAST-MODIFIED:20240915T192553Z
UID:8330-1743102000-1743112800@hammerchess.co.uk
SUMMARY:Middlesex League Division 3: Hammersmith 3 vs Harrow Juniors 2
DESCRIPTION:
URL:https://hammerchess.co.uk/event/middlesex-league-division-3-hammersmith-3-vs-harrow-juniors-2/
LOCATION:MindSports Centre\, 21-23 Dalling Road\, London\, London\, W60JD\, United Kingdom
CATEGORIES:League Matches
ORGANIZER;CN="Luna Eastham":MAILTO:lunaeastham@gmail.com
END:VEVENT
END:VCALENDAR