BEGIN:VCALENDAR
VERSION:2.0
PRODID:-//Hammersmith Chess Club - ECPv6.15.20//NONSGML v1.0//EN
CALSCALE:GREGORIAN
METHOD:PUBLISH
X-WR-CALNAME:Hammersmith Chess Club
X-ORIGINAL-URL:https://hammerchess.co.uk
X-WR-CALDESC:Events for Hammersmith Chess Club
REFRESH-INTERVAL;VALUE=DURATION:PT1H
X-Robots-Tag:noindex
X-PUBLISHED-TTL:PT1H
BEGIN:VTIMEZONE
TZID:Europe/London
BEGIN:DAYLIGHT
TZOFFSETFROM:+0000
TZOFFSETTO:+0100
TZNAME:BST
DTSTART:20240331T010000
END:DAYLIGHT
BEGIN:STANDARD
TZOFFSETFROM:+0100
TZOFFSETTO:+0000
TZNAME:GMT
DTSTART:20241027T010000
END:STANDARD
BEGIN:DAYLIGHT
TZOFFSETFROM:+0000
TZOFFSETTO:+0100
TZNAME:BST
DTSTART:20250330T010000
END:DAYLIGHT
BEGIN:STANDARD
TZOFFSETFROM:+0100
TZOFFSETTO:+0000
TZNAME:GMT
DTSTART:20251026T010000
END:STANDARD
BEGIN:DAYLIGHT
TZOFFSETFROM:+0000
TZOFFSETTO:+0100
TZNAME:BST
DTSTART:20260329T010000
END:DAYLIGHT
BEGIN:STANDARD
TZOFFSETFROM:+0100
TZOFFSETTO:+0000
TZNAME:GMT
DTSTART:20261025T010000
END:STANDARD
END:VTIMEZONE
BEGIN:VEVENT
DTSTART;TZID=Europe/London:20250106T193000
DTEND;TZID=Europe/London:20250106T223000
DTSTAMP:20260421T151042
CREATED:20240915T192609Z
LAST-MODIFIED:20240915T192610Z
UID:8339-1736191800-1736202600@hammerchess.co.uk
SUMMARY:Middlesex League Division 3: Ealing 2 vs Hammersmith 4
DESCRIPTION:
URL:https://hammerchess.co.uk/event/middlesex-league-division-3-ealing-2-vs-hammersmith-4/
LOCATION:Ealing\, Actonians Sport Club\, Gunnersbury Drive\, London\, W5 4LL\, United Kingdom
CATEGORIES:League Matches
ORGANIZER;CN="Frantisek Zacek":MAILTO:czechripper@gmail.com
END:VEVENT
BEGIN:VEVENT
DTSTART;TZID=Europe/London:20250109T190000
DTEND;TZID=Europe/London:20250109T220000
DTSTAMP:20260421T151042
CREATED:20240915T192536Z
LAST-MODIFIED:20240915T192536Z
UID:8324-1736449200-1736460000@hammerchess.co.uk
SUMMARY:Middlesex League Division 3: Hammersmith 3 vs Muswell Hill 2
DESCRIPTION:
URL:https://hammerchess.co.uk/event/middlesex-league-division-3-hammersmith-3-vs-muswell-hill-2/
LOCATION:MindSports Centre\, 21-23 Dalling Road\, London\, London\, W60JD\, United Kingdom
CATEGORIES:League Matches
ORGANIZER;CN="Luna Eastham":MAILTO:lunaeastham@gmail.com
END:VEVENT
BEGIN:VEVENT
DTSTART;TZID=Europe/London:20250116T193000
DTEND;TZID=Europe/London:20250116T223000
DTSTAMP:20260421T151042
CREATED:20240915T192543Z
LAST-MODIFIED:20240915T192544Z
UID:8325-1737055800-1737066600@hammerchess.co.uk
SUMMARY:Middlesex League Division 3: Hendon Barnet Knights vs Hammersmith 3
DESCRIPTION:
URL:https://hammerchess.co.uk/event/middlesex-league-division-3-hendon-barnet-knights-vs-hammersmith-3/
LOCATION:Hendon\, Cumberland Lawn Tennis Club\, 25 Alvanley Gardens\, London\, NW6 1JD\, United Kingdom
CATEGORIES:League Matches
ORGANIZER;CN="Luna Eastham":MAILTO:lunaeastham@gmail.com
END:VEVENT
BEGIN:VEVENT
DTSTART;TZID=Europe/London:20250130T193000
DTEND;TZID=Europe/London:20250130T223000
DTSTAMP:20260421T151042
CREATED:20240915T192543Z
LAST-MODIFIED:20240915T192544Z
UID:8326-1738265400-1738276200@hammerchess.co.uk
SUMMARY:Middlesex League Division 3: Hendon 4 vs Hammersmith 3
DESCRIPTION:
URL:https://hammerchess.co.uk/event/middlesex-league-division-3-hendon-4-vs-hammersmith-3/
LOCATION:Hendon\, Cumberland Lawn Tennis Club\, 25 Alvanley Gardens\, London\, NW6 1JD\, United Kingdom
CATEGORIES:League Matches
ORGANIZER;CN="Luna Eastham":MAILTO:lunaeastham@gmail.com
END:VEVENT
END:VCALENDAR