BEGIN:VCALENDAR
VERSION:2.0
PRODID:-//Hammersmith Chess Club - ECPv6.15.20//NONSGML v1.0//EN
CALSCALE:GREGORIAN
METHOD:PUBLISH
X-ORIGINAL-URL:https://hammerchess.co.uk
X-WR-CALDESC:Events for Hammersmith Chess Club
REFRESH-INTERVAL;VALUE=DURATION:PT1H
X-Robots-Tag:noindex
X-PUBLISHED-TTL:PT1H
BEGIN:VTIMEZONE
TZID:Europe/London
BEGIN:DAYLIGHT
TZOFFSETFROM:+0000
TZOFFSETTO:+0100
TZNAME:BST
DTSTART:20230326T010000
END:DAYLIGHT
BEGIN:STANDARD
TZOFFSETFROM:+0100
TZOFFSETTO:+0000
TZNAME:GMT
DTSTART:20231029T010000
END:STANDARD
BEGIN:DAYLIGHT
TZOFFSETFROM:+0000
TZOFFSETTO:+0100
TZNAME:BST
DTSTART:20240331T010000
END:DAYLIGHT
BEGIN:STANDARD
TZOFFSETFROM:+0100
TZOFFSETTO:+0000
TZNAME:GMT
DTSTART:20241027T010000
END:STANDARD
BEGIN:DAYLIGHT
TZOFFSETFROM:+0000
TZOFFSETTO:+0100
TZNAME:BST
DTSTART:20250330T010000
END:DAYLIGHT
BEGIN:STANDARD
TZOFFSETFROM:+0100
TZOFFSETTO:+0000
TZNAME:GMT
DTSTART:20251026T010000
END:STANDARD
END:VTIMEZONE
BEGIN:VEVENT
DTSTART;TZID=Europe/London:20240606T193000
DTEND;TZID=Europe/London:20240606T223000
DTSTAMP:20260423T020430
CREATED:20230927T185256Z
LAST-MODIFIED:20230927T190638Z
UID:6811-1717702200-1717713000@hammerchess.co.uk
SUMMARY:Middlesex League Division 2: Harrow 1 vs Hammersmith 2
DESCRIPTION:
URL:https://hammerchess.co.uk/event/middlesex-league-division-2-harrow-1-vs-hammersmith-2/
LOCATION:Harrow\, Harrow High School\, Gayton Road\, Harrow\, London\, HA1 2JG\, United Kingdom
CATEGORIES:League Matches
ORGANIZER;CN="Florin Toma":MAILTO:florin.toma@outlook.com
END:VEVENT
END:VCALENDAR