BEGIN:VCALENDAR
VERSION:2.0
PRODID:-//Hammersmith Chess Club - ECPv6.15.20//NONSGML v1.0//EN
CALSCALE:GREGORIAN
METHOD:PUBLISH
X-ORIGINAL-URL:https://hammerchess.co.uk
X-WR-CALDESC:Events for Hammersmith Chess Club
REFRESH-INTERVAL;VALUE=DURATION:PT1H
X-Robots-Tag:noindex
X-PUBLISHED-TTL:PT1H
BEGIN:VTIMEZONE
TZID:Europe/London
BEGIN:DAYLIGHT
TZOFFSETFROM:+0000
TZOFFSETTO:+0100
TZNAME:BST
DTSTART:20230326T010000
END:DAYLIGHT
BEGIN:STANDARD
TZOFFSETFROM:+0100
TZOFFSETTO:+0000
TZNAME:GMT
DTSTART:20231029T010000
END:STANDARD
BEGIN:DAYLIGHT
TZOFFSETFROM:+0000
TZOFFSETTO:+0100
TZNAME:BST
DTSTART:20240331T010000
END:DAYLIGHT
BEGIN:STANDARD
TZOFFSETFROM:+0100
TZOFFSETTO:+0000
TZNAME:GMT
DTSTART:20241027T010000
END:STANDARD
BEGIN:DAYLIGHT
TZOFFSETFROM:+0000
TZOFFSETTO:+0100
TZNAME:BST
DTSTART:20250330T010000
END:DAYLIGHT
BEGIN:STANDARD
TZOFFSETFROM:+0100
TZOFFSETTO:+0000
TZNAME:GMT
DTSTART:20251026T010000
END:STANDARD
END:VTIMEZONE
BEGIN:VEVENT
DTSTART;TZID=Europe/London:20240312T191500
DTEND;TZID=Europe/London:20240312T221500
DTSTAMP:20260423T070927
CREATED:20230927T190708Z
LAST-MODIFIED:20230927T190708Z
UID:7093-1710270900-1710281700@hammerchess.co.uk
SUMMARY:Middlesex League Division 2: Muswell Hill 2 vs Hammersmith 2
DESCRIPTION:
URL:https://hammerchess.co.uk/event/middlesex-league-division-2-muswell-hill-2-vs-hammersmith-2-2/
CATEGORIES:League Matches
ORGANIZER;CN="Florin Toma":MAILTO:florin.toma@outlook.com
END:VEVENT
BEGIN:VEVENT
DTSTART;TZID=Europe/London:20240321T193000
DTEND;TZID=Europe/London:20240321T223000
DTSTAMP:20260423T070927
CREATED:20230927T190724Z
LAST-MODIFIED:20230927T190724Z
UID:7094-1711049400-1711060200@hammerchess.co.uk
SUMMARY:Middlesex League Division 2: Hammersmith 1 vs Metropolitan
DESCRIPTION:
URL:https://hammerchess.co.uk/event/middlesex-league-division-2-hammersmith-1-vs-metropolitan-2/
LOCATION:MindSports Centre\, 21-23 Dalling Road\, London\, London\, W60JD\, United Kingdom
CATEGORIES:League Matches
ORGANIZER;CN="Luke Lau":MAILTO:s0030135@gmail.com
END:VEVENT
BEGIN:VEVENT
DTSTART;TZID=Europe/London:20240328T193000
DTEND;TZID=Europe/London:20240328T223000
DTSTAMP:20260423T070927
CREATED:20230927T190624Z
LAST-MODIFIED:20231210T124827Z
UID:7070-1711654200-1711665000@hammerchess.co.uk
SUMMARY:Middlesex League Division 2: Hammersmith 1 vs Harrow Juniors 1
DESCRIPTION:
URL:https://hammerchess.co.uk/event/middlesex-league-division-2-hammersmith-1-vs-harrow-juniors-1-2/
LOCATION:MindSports Centre\, 21-23 Dalling Road\, London\, London\, W60JD\, United Kingdom
CATEGORIES:League Matches
ORGANIZER;CN="Luke Lau":MAILTO:s0030135@gmail.com
END:VEVENT
END:VCALENDAR