BEGIN:VCALENDAR
VERSION:2.0
PRODID:-//Hammersmith Chess Club - ECPv6.15.20//NONSGML v1.0//EN
CALSCALE:GREGORIAN
METHOD:PUBLISH
X-ORIGINAL-URL:https://hammerchess.co.uk
X-WR-CALDESC:Events for Hammersmith Chess Club
REFRESH-INTERVAL;VALUE=DURATION:PT1H
X-Robots-Tag:noindex
X-PUBLISHED-TTL:PT1H
BEGIN:VTIMEZONE
TZID:Europe/London
BEGIN:DAYLIGHT
TZOFFSETFROM:+0000
TZOFFSETTO:+0100
TZNAME:BST
DTSTART:20220327T010000
END:DAYLIGHT
BEGIN:STANDARD
TZOFFSETFROM:+0100
TZOFFSETTO:+0000
TZNAME:GMT
DTSTART:20221030T010000
END:STANDARD
BEGIN:DAYLIGHT
TZOFFSETFROM:+0000
TZOFFSETTO:+0100
TZNAME:BST
DTSTART:20230326T010000
END:DAYLIGHT
BEGIN:STANDARD
TZOFFSETFROM:+0100
TZOFFSETTO:+0000
TZNAME:GMT
DTSTART:20231029T010000
END:STANDARD
BEGIN:DAYLIGHT
TZOFFSETFROM:+0000
TZOFFSETTO:+0100
TZNAME:BST
DTSTART:20240331T010000
END:DAYLIGHT
BEGIN:STANDARD
TZOFFSETFROM:+0100
TZOFFSETTO:+0000
TZNAME:GMT
DTSTART:20241027T010000
END:STANDARD
END:VTIMEZONE
BEGIN:VEVENT
DTSTART;TZID=Europe/London:20231207T193000
DTEND;TZID=Europe/London:20231207T223000
DTSTAMP:20260423T121916
CREATED:20230927T190638Z
LAST-MODIFIED:20230927T190638Z
UID:7082-1701977400-1701988200@hammerchess.co.uk
SUMMARY:Middlesex League Division 2: Harrow Juniors 1 vs Hammersmith 1
DESCRIPTION:
URL:https://hammerchess.co.uk/event/middlesex-league-division-2-harrow-juniors-1-vs-hammersmith-1-2/
LOCATION:Harrow\, Harrow High School\, Gayton Road\, Harrow\, London\, HA1 2JG\, United Kingdom
CATEGORIES:League Matches
ORGANIZER;CN="Luke Lau":MAILTO:s0030135@gmail.com
END:VEVENT
BEGIN:VEVENT
DTSTART;TZID=Europe/London:20231214T193000
DTEND;TZID=Europe/London:20231214T223000
DTSTAMP:20260423T121916
CREATED:20230927T190653Z
LAST-MODIFIED:20230927T190653Z
UID:7087-1702582200-1702593000@hammerchess.co.uk
SUMMARY:Middlesex League Division 2: Hammersmith 1 vs Muswell Hill 2
DESCRIPTION:
URL:https://hammerchess.co.uk/event/middlesex-league-division-2-hammersmith-1-vs-muswell-hill-2-2/
LOCATION:MindSports Centre\, 21-23 Dalling Road\, London\, London\, W60JD\, United Kingdom
CATEGORIES:League Matches
ORGANIZER;CN="Luke Lau":MAILTO:s0030135@gmail.com
END:VEVENT
BEGIN:VEVENT
DTSTART;TZID=Europe/London:20231221T193000
DTEND;TZID=Europe/London:20231221T223000
DTSTAMP:20260423T121916
CREATED:20230927T190638Z
LAST-MODIFIED:20230927T190638Z
UID:7083-1703187000-1703197800@hammerchess.co.uk
SUMMARY:Middlesex League Division 2: Hammersmith 1 vs Hammersmith 2
DESCRIPTION:
URL:https://hammerchess.co.uk/event/middlesex-league-division-2-hammersmith-1-vs-hammersmith-2-2/
LOCATION:MindSports Centre\, 21-23 Dalling Road\, London\, London\, W60JD\, United Kingdom
CATEGORIES:League Matches
ORGANIZER;CN="Luke Lau":MAILTO:s0030135@gmail.com
END:VEVENT
END:VCALENDAR