BEGIN:VCALENDAR
VERSION:2.0
PRODID:-//Hammersmith Chess Club - ECPv6.15.20//NONSGML v1.0//EN
CALSCALE:GREGORIAN
METHOD:PUBLISH
X-WR-CALNAME:Hammersmith Chess Club
X-ORIGINAL-URL:https://hammerchess.co.uk
X-WR-CALDESC:Events for Hammersmith Chess Club
REFRESH-INTERVAL;VALUE=DURATION:PT1H
X-Robots-Tag:noindex
X-PUBLISHED-TTL:PT1H
BEGIN:VTIMEZONE
TZID:Europe/London
BEGIN:DAYLIGHT
TZOFFSETFROM:+0000
TZOFFSETTO:+0100
TZNAME:BST
DTSTART:20220327T010000
END:DAYLIGHT
BEGIN:STANDARD
TZOFFSETFROM:+0100
TZOFFSETTO:+0000
TZNAME:GMT
DTSTART:20221030T010000
END:STANDARD
BEGIN:DAYLIGHT
TZOFFSETFROM:+0000
TZOFFSETTO:+0100
TZNAME:BST
DTSTART:20230326T010000
END:DAYLIGHT
BEGIN:STANDARD
TZOFFSETFROM:+0100
TZOFFSETTO:+0000
TZNAME:GMT
DTSTART:20231029T010000
END:STANDARD
BEGIN:DAYLIGHT
TZOFFSETFROM:+0000
TZOFFSETTO:+0100
TZNAME:BST
DTSTART:20240331T010000
END:DAYLIGHT
BEGIN:STANDARD
TZOFFSETFROM:+0100
TZOFFSETTO:+0000
TZNAME:GMT
DTSTART:20241027T010000
END:STANDARD
END:VTIMEZONE
BEGIN:VEVENT
DTSTART;TZID=Europe/London:20231012T193000
DTEND;TZID=Europe/London:20231012T223000
DTSTAMP:20260423T154700
CREATED:20230927T190624Z
LAST-MODIFIED:20230927T190625Z
UID:7072-1697139000-1697149800@hammerchess.co.uk
SUMMARY:Middlesex League Division 2: Hammersmith 1 vs Harrow 1
DESCRIPTION:
URL:https://hammerchess.co.uk/event/middlesex-league-division-2-hammersmith-1-vs-harrow-1-2/
LOCATION:MindSports Centre\, 21-23 Dalling Road\, London\, London\, W60JD\, United Kingdom
CATEGORIES:League Matches
ORGANIZER;CN="Luke Lau":MAILTO:s0030135@gmail.com
END:VEVENT
BEGIN:VEVENT
DTSTART;TZID=Europe/London:20231012T193000
DTEND;TZID=Europe/London:20231012T223000
DTSTAMP:20260423T154700
CREATED:20230927T190625Z
LAST-MODIFIED:20230927T190626Z
UID:7074-1697139000-1697149800@hammerchess.co.uk
SUMMARY:Middlesex League Division 2: Hammersmith 2 vs Harrow Juniors 1
DESCRIPTION:
URL:https://hammerchess.co.uk/event/middlesex-league-division-2-hammersmith-2-vs-harrow-juniors-1-2/
LOCATION:MindSports Centre\, 21-23 Dalling Road\, London\, London\, W60JD\, United Kingdom
CATEGORIES:League Matches
ORGANIZER;CN="Florin Toma":MAILTO:florin.toma@outlook.com
END:VEVENT
BEGIN:VEVENT
DTSTART;TZID=Europe/London:20231026T193000
DTEND;TZID=Europe/London:20231026T223000
DTSTAMP:20260423T154700
CREATED:20230927T190624Z
LAST-MODIFIED:20230927T190625Z
UID:7071-1698348600-1698359400@hammerchess.co.uk
SUMMARY:Middlesex League Division 2: Hammersmith 2 vs Hammersmith 1
DESCRIPTION:
URL:https://hammerchess.co.uk/event/middlesex-league-division-2-hammersmith-2-vs-hammersmith-1-2/
LOCATION:MindSports Centre\, 21-23 Dalling Road\, London\, London\, W60JD\, United Kingdom
CATEGORIES:League Matches
ORGANIZER;CN="Luke Lau":MAILTO:s0030135@gmail.com
END:VEVENT
END:VCALENDAR