BEGIN:VCALENDAR
VERSION:2.0
PRODID:-//Hammersmith Chess Club - ECPv6.15.20//NONSGML v1.0//EN
CALSCALE:GREGORIAN
METHOD:PUBLISH
X-WR-CALNAME:Hammersmith Chess Club
X-ORIGINAL-URL:https://hammerchess.co.uk
X-WR-CALDESC:Events for Hammersmith Chess Club
REFRESH-INTERVAL;VALUE=DURATION:PT1H
X-Robots-Tag:noindex
X-PUBLISHED-TTL:PT1H
BEGIN:VTIMEZONE
TZID:Europe/London
BEGIN:DAYLIGHT
TZOFFSETFROM:+0000
TZOFFSETTO:+0100
TZNAME:BST
DTSTART:20230326T010000
END:DAYLIGHT
BEGIN:STANDARD
TZOFFSETFROM:+0100
TZOFFSETTO:+0000
TZNAME:GMT
DTSTART:20231029T010000
END:STANDARD
BEGIN:DAYLIGHT
TZOFFSETFROM:+0000
TZOFFSETTO:+0100
TZNAME:BST
DTSTART:20240331T010000
END:DAYLIGHT
BEGIN:STANDARD
TZOFFSETFROM:+0100
TZOFFSETTO:+0000
TZNAME:GMT
DTSTART:20241027T010000
END:STANDARD
BEGIN:DAYLIGHT
TZOFFSETFROM:+0000
TZOFFSETTO:+0100
TZNAME:BST
DTSTART:20250330T010000
END:DAYLIGHT
BEGIN:STANDARD
TZOFFSETFROM:+0100
TZOFFSETTO:+0000
TZNAME:GMT
DTSTART:20251026T010000
END:STANDARD
END:VTIMEZONE
BEGIN:VEVENT
DTSTART;TZID=Europe/London:20240514T190000
DTEND;TZID=Europe/London:20240514T220000
DTSTAMP:20260425T150138
CREATED:20230927T191027Z
LAST-MODIFIED:20230927T191027Z
UID:7172-1715713200-1715724000@hammerchess.co.uk
SUMMARY:London League Women's: Hammersmith W MSC vs Battersea W BLC
DESCRIPTION:
URL:https://hammerchess.co.uk/event/london-league-womens-hammersmith-w-msc-vs-battersea-w-blc-2/
LOCATION:MindSports Centre\, 21-23 Dalling Road\, London\, London\, W60JD\, United Kingdom
CATEGORIES:League Matches
ORGANIZER;CN="Anastasija Royce":MAILTO:surija@mail.ru
END:VEVENT
END:VCALENDAR