BEGIN:VCALENDAR
VERSION:2.0
PRODID:-//Hammersmith Chess Club - ECPv6.15.20//NONSGML v1.0//EN
CALSCALE:GREGORIAN
METHOD:PUBLISH
X-WR-CALNAME:Hammersmith Chess Club
X-ORIGINAL-URL:https://hammerchess.co.uk
X-WR-CALDESC:Events for Hammersmith Chess Club
REFRESH-INTERVAL;VALUE=DURATION:PT1H
X-Robots-Tag:noindex
X-PUBLISHED-TTL:PT1H
BEGIN:VTIMEZONE
TZID:Europe/London
BEGIN:DAYLIGHT
TZOFFSETFROM:+0000
TZOFFSETTO:+0100
TZNAME:BST
DTSTART:20220327T010000
END:DAYLIGHT
BEGIN:STANDARD
TZOFFSETFROM:+0100
TZOFFSETTO:+0000
TZNAME:GMT
DTSTART:20221030T010000
END:STANDARD
BEGIN:DAYLIGHT
TZOFFSETFROM:+0000
TZOFFSETTO:+0100
TZNAME:BST
DTSTART:20230326T010000
END:DAYLIGHT
BEGIN:STANDARD
TZOFFSETFROM:+0100
TZOFFSETTO:+0000
TZNAME:GMT
DTSTART:20231029T010000
END:STANDARD
BEGIN:DAYLIGHT
TZOFFSETFROM:+0000
TZOFFSETTO:+0100
TZNAME:BST
DTSTART:20240331T010000
END:DAYLIGHT
BEGIN:STANDARD
TZOFFSETFROM:+0100
TZOFFSETTO:+0000
TZNAME:GMT
DTSTART:20241027T010000
END:STANDARD
END:VTIMEZONE
BEGIN:VEVENT
DTSTART;TZID=Europe/London:20231031T190000
DTEND;TZID=Europe/London:20231031T220000
DTSTAMP:20260426T021738
CREATED:20230927T190825Z
LAST-MODIFIED:20231007T190910Z
UID:7114-1698778800-1698789600@hammerchess.co.uk
SUMMARY:London League Women's: Wimbledon W BLC vs Hammersmith W MSC
DESCRIPTION:
URL:https://hammerchess.co.uk/event/london-league-womens-wimbledon-w-blc-vs-hammersmith-w-msc-3/
LOCATION:Battersea Labour Club\, 81-83\, Falcon Road\, Battersea\, London\, SW112PF\, United Kingdom
CATEGORIES:League Matches
ORGANIZER;CN="Anastasija Royce":MAILTO:surija@mail.ru
END:VEVENT
END:VCALENDAR