BEGIN:VCALENDAR
VERSION:2.0
PRODID:-//Hammersmith Chess Club - ECPv6.15.20//NONSGML v1.0//EN
CALSCALE:GREGORIAN
METHOD:PUBLISH
X-WR-CALNAME:Hammersmith Chess Club
X-ORIGINAL-URL:https://hammerchess.co.uk
X-WR-CALDESC:Events for Hammersmith Chess Club
REFRESH-INTERVAL;VALUE=DURATION:PT1H
X-Robots-Tag:noindex
X-PUBLISHED-TTL:PT1H
BEGIN:VTIMEZONE
TZID:Europe/London
BEGIN:DAYLIGHT
TZOFFSETFROM:+0000
TZOFFSETTO:+0100
TZNAME:BST
DTSTART:20240331T010000
END:DAYLIGHT
BEGIN:STANDARD
TZOFFSETFROM:+0100
TZOFFSETTO:+0000
TZNAME:GMT
DTSTART:20241027T010000
END:STANDARD
BEGIN:DAYLIGHT
TZOFFSETFROM:+0000
TZOFFSETTO:+0100
TZNAME:BST
DTSTART:20250330T010000
END:DAYLIGHT
BEGIN:STANDARD
TZOFFSETFROM:+0100
TZOFFSETTO:+0000
TZNAME:GMT
DTSTART:20251026T010000
END:STANDARD
BEGIN:DAYLIGHT
TZOFFSETFROM:+0000
TZOFFSETTO:+0100
TZNAME:BST
DTSTART:20260329T010000
END:DAYLIGHT
BEGIN:STANDARD
TZOFFSETFROM:+0100
TZOFFSETTO:+0000
TZNAME:GMT
DTSTART:20261025T010000
END:STANDARD
END:VTIMEZONE
BEGIN:VEVENT
DTSTART;TZID=Europe/London:20250507T183000
DTEND;TZID=Europe/London:20250507T213000
DTSTAMP:20260421T105946
CREATED:20240915T192003Z
LAST-MODIFIED:20240929T143844Z
UID:8412-1746642600-1746653400@hammerchess.co.uk
SUMMARY:London League Division 3: Hackney 2 vs Hammersmith 3
DESCRIPTION:
URL:https://hammerchess.co.uk/event/london-league-division-3-hackney-2-vs-hammersmith-3/
LOCATION:St. Margaret’s House\, 15-17 Old Ford Road\, Bethnal Green\, London\, E29PL\, United Kingdom
CATEGORIES:League Matches
ORGANIZER;CN="David Lambert":MAILTO:davidlambert80@gmail.com
END:VEVENT
BEGIN:VEVENT
DTSTART;TZID=Europe/London:20250508T183000
DTEND;TZID=Europe/London:20250508T213000
DTSTAMP:20260421T105946
CREATED:20240915T192824Z
LAST-MODIFIED:20240915T192825Z
UID:8413-1746729000-1746739800@hammerchess.co.uk
SUMMARY:London League Division 3: Metropolitan 2 vs Hammersmith 2
DESCRIPTION:
URL:https://hammerchess.co.uk/event/london-league-division-3-metropolitan-2-vs-hammersmith-2/
LOCATION:Metropolitan\, The Artizan Community Centre\, Gravel Lane\, London\, E17AW\, United Kingdom
CATEGORIES:League Matches
ORGANIZER;CN="John White":MAILTO:jdrw9591@gmail.com
END:VEVENT
BEGIN:VEVENT
DTSTART;TZID=Europe/London:20250527T183000
DTEND;TZID=Europe/London:20250527T213000
DTSTAMP:20260421T105946
CREATED:20240915T192003Z
LAST-MODIFIED:20240915T192003Z
UID:8417-1748370600-1748381400@hammerchess.co.uk
SUMMARY:London League Division 3: DHSS 1 vs Hammersmith 3
DESCRIPTION:
URL:https://hammerchess.co.uk/event/london-league-division-3-dhss-1-vs-hammersmith-3/
LOCATION:DHSS\, Caxton House\, Tothill Street\, London\, SW1H9DA\, United Kingdom
CATEGORIES:League Matches
ORGANIZER;CN="David Lambert":MAILTO:davidlambert80@gmail.com
END:VEVENT
END:VCALENDAR