BEGIN:VCALENDAR
VERSION:2.0
PRODID:-//Hammersmith Chess Club - ECPv6.15.20//NONSGML v1.0//EN
CALSCALE:GREGORIAN
METHOD:PUBLISH
X-ORIGINAL-URL:https://hammerchess.co.uk
X-WR-CALDESC:Events for Hammersmith Chess Club
REFRESH-INTERVAL;VALUE=DURATION:PT1H
X-Robots-Tag:noindex
X-PUBLISHED-TTL:PT1H
BEGIN:VTIMEZONE
TZID:Europe/London
BEGIN:DAYLIGHT
TZOFFSETFROM:+0000
TZOFFSETTO:+0100
TZNAME:BST
DTSTART:20240331T010000
END:DAYLIGHT
BEGIN:STANDARD
TZOFFSETFROM:+0100
TZOFFSETTO:+0000
TZNAME:GMT
DTSTART:20241027T010000
END:STANDARD
BEGIN:DAYLIGHT
TZOFFSETFROM:+0000
TZOFFSETTO:+0100
TZNAME:BST
DTSTART:20250330T010000
END:DAYLIGHT
BEGIN:STANDARD
TZOFFSETFROM:+0100
TZOFFSETTO:+0000
TZNAME:GMT
DTSTART:20251026T010000
END:STANDARD
BEGIN:DAYLIGHT
TZOFFSETFROM:+0000
TZOFFSETTO:+0100
TZNAME:BST
DTSTART:20260329T010000
END:DAYLIGHT
BEGIN:STANDARD
TZOFFSETFROM:+0100
TZOFFSETTO:+0000
TZNAME:GMT
DTSTART:20261025T010000
END:STANDARD
END:VTIMEZONE
BEGIN:VEVENT
DTSTART;TZID=Europe/London:20250304T183000
DTEND;TZID=Europe/London:20250304T213000
DTSTAMP:20260421T141206
CREATED:20240915T192749Z
LAST-MODIFIED:20240915T192751Z
UID:8393-1741113000-1741123800@hammerchess.co.uk
SUMMARY:London League Division 3: Lewisham 2 vs Hammersmith 2
DESCRIPTION:
URL:https://hammerchess.co.uk/event/london-league-division-3-lewisham-2-vs-hammersmith-2/
LOCATION:Brokers Wine Bar\, 6-9 Leadenhall Market\, London\, EC3V1LR\, United Kingdom
CATEGORIES:League Matches
ORGANIZER;CN="John White":MAILTO:jdrw9591@gmail.com
END:VEVENT
BEGIN:VEVENT
DTSTART;TZID=Europe/London:20250318T184500
DTEND;TZID=Europe/London:20250318T214500
DTSTAMP:20260421T141206
CREATED:20240915T192004Z
LAST-MODIFIED:20240915T192004Z
UID:8398-1742323500-1742334300@hammerchess.co.uk
SUMMARY:London League Division 3: Hammersmith 3 vs Ilford 1
DESCRIPTION:
URL:https://hammerchess.co.uk/event/london-league-division-3-hammersmith-3-vs-ilford-1/
LOCATION:MindSports Centre\, 21-23 Dalling Road\, London\, London\, W60JD\, United Kingdom
CATEGORIES:League Matches
ORGANIZER;CN="David Lambert":MAILTO:davidlambert80@gmail.com
END:VEVENT
BEGIN:VEVENT
DTSTART;TZID=Europe/London:20250326T183000
DTEND;TZID=Europe/London:20250326T213000
DTSTAMP:20260421T141206
CREATED:20240915T192004Z
LAST-MODIFIED:20240929T143659Z
UID:8401-1743013800-1743024600@hammerchess.co.uk
SUMMARY:London League Division 3: Hammersmith 3 vs BBCA 1
DESCRIPTION:
URL:https://hammerchess.co.uk/event/london-league-division-3-hammersmith-3-vs-bbca-1/
LOCATION:St. Margaret’s House\, 15-17 Old Ford Road\, Bethnal Green\, London\, E29PL\, United Kingdom
CATEGORIES:League Matches
ORGANIZER;CN="David Lambert":MAILTO:davidlambert80@gmail.com
END:VEVENT
END:VCALENDAR