BEGIN:VCALENDAR
VERSION:2.0
PRODID:-//Hammersmith Chess Club - ECPv6.15.20//NONSGML v1.0//EN
CALSCALE:GREGORIAN
METHOD:PUBLISH
X-WR-CALNAME:Hammersmith Chess Club
X-ORIGINAL-URL:https://hammerchess.co.uk
X-WR-CALDESC:Events for Hammersmith Chess Club
REFRESH-INTERVAL;VALUE=DURATION:PT1H
X-Robots-Tag:noindex
X-PUBLISHED-TTL:PT1H
BEGIN:VTIMEZONE
TZID:Europe/London
BEGIN:DAYLIGHT
TZOFFSETFROM:+0000
TZOFFSETTO:+0100
TZNAME:BST
DTSTART:20240331T010000
END:DAYLIGHT
BEGIN:STANDARD
TZOFFSETFROM:+0100
TZOFFSETTO:+0000
TZNAME:GMT
DTSTART:20241027T010000
END:STANDARD
BEGIN:DAYLIGHT
TZOFFSETFROM:+0000
TZOFFSETTO:+0100
TZNAME:BST
DTSTART:20250330T010000
END:DAYLIGHT
BEGIN:STANDARD
TZOFFSETFROM:+0100
TZOFFSETTO:+0000
TZNAME:GMT
DTSTART:20251026T010000
END:STANDARD
BEGIN:DAYLIGHT
TZOFFSETFROM:+0000
TZOFFSETTO:+0100
TZNAME:BST
DTSTART:20260329T010000
END:DAYLIGHT
BEGIN:STANDARD
TZOFFSETFROM:+0100
TZOFFSETTO:+0000
TZNAME:GMT
DTSTART:20261025T010000
END:STANDARD
END:VTIMEZONE
BEGIN:VEVENT
DTSTART;TZID=Europe/London:20250211T183000
DTEND;TZID=Europe/London:20250211T213000
DTSTAMP:20260421T154517
CREATED:20240915T192733Z
LAST-MODIFIED:20240915T192734Z
UID:8386-1739298600-1739309400@hammerchess.co.uk
SUMMARY:London League Division 3: DHSS 1 vs Hammersmith 2
DESCRIPTION:
URL:https://hammerchess.co.uk/event/london-league-division-3-dhss-1-vs-hammersmith-2/
LOCATION:DHSS\, Caxton House\, Tothill Street\, London\, SW1H9DA\, United Kingdom
CATEGORIES:League Matches
ORGANIZER;CN="John White":MAILTO:jdrw9591@gmail.com
END:VEVENT
BEGIN:VEVENT
DTSTART;TZID=Europe/London:20250225T183000
DTEND;TZID=Europe/London:20250225T213000
DTSTAMP:20260421T154517
CREATED:20240915T192742Z
LAST-MODIFIED:20240915T192742Z
UID:8391-1740508200-1740519000@hammerchess.co.uk
SUMMARY:London League Division 3: Greater London 2 vs Hammersmith 2
DESCRIPTION:
URL:https://hammerchess.co.uk/event/london-league-division-3-greater-london-2-vs-hammersmith-2/
LOCATION:GLCC\, Upper Vestry House\, St George's Church\, 6-7 Little Russell Street\, London\, WC1A2HS\, United Kingdom
CATEGORIES:League Matches
ORGANIZER;CN="John White":MAILTO:jdrw9591@gmail.com
END:VEVENT
END:VCALENDAR