BEGIN:VCALENDAR
VERSION:2.0
PRODID:-//Hammersmith Chess Club - ECPv6.15.20//NONSGML v1.0//EN
CALSCALE:GREGORIAN
METHOD:PUBLISH
X-WR-CALNAME:Hammersmith Chess Club
X-ORIGINAL-URL:https://hammerchess.co.uk
X-WR-CALDESC:Events for Hammersmith Chess Club
REFRESH-INTERVAL;VALUE=DURATION:PT1H
X-Robots-Tag:noindex
X-PUBLISHED-TTL:PT1H
BEGIN:VTIMEZONE
TZID:Europe/London
BEGIN:DAYLIGHT
TZOFFSETFROM:+0000
TZOFFSETTO:+0100
TZNAME:BST
DTSTART:20240331T010000
END:DAYLIGHT
BEGIN:STANDARD
TZOFFSETFROM:+0100
TZOFFSETTO:+0000
TZNAME:GMT
DTSTART:20241027T010000
END:STANDARD
BEGIN:DAYLIGHT
TZOFFSETFROM:+0000
TZOFFSETTO:+0100
TZNAME:BST
DTSTART:20250330T010000
END:DAYLIGHT
BEGIN:STANDARD
TZOFFSETFROM:+0100
TZOFFSETTO:+0000
TZNAME:GMT
DTSTART:20251026T010000
END:STANDARD
BEGIN:DAYLIGHT
TZOFFSETFROM:+0000
TZOFFSETTO:+0100
TZNAME:BST
DTSTART:20260329T010000
END:DAYLIGHT
BEGIN:STANDARD
TZOFFSETFROM:+0100
TZOFFSETTO:+0000
TZNAME:GMT
DTSTART:20261025T010000
END:STANDARD
END:VTIMEZONE
BEGIN:VEVENT
DTSTART;TZID=Europe/London:20250108T183000
DTEND;TZID=Europe/London:20250108T213000
DTSTAMP:20260421T172947
CREATED:20240915T192716Z
LAST-MODIFIED:20240929T143602Z
UID:8375-1736361000-1736371800@hammerchess.co.uk
SUMMARY:London League Division 3: BBCA 1 vs Hammersmith 2
DESCRIPTION:
URL:https://hammerchess.co.uk/event/london-league-division-3-bbca-1-vs-hammersmith-2/
LOCATION:St. Margaret’s House\, 15-17 Old Ford Road\, Bethnal Green\, London\, E29PL\, United Kingdom
CATEGORIES:League Matches
ORGANIZER;CN="John White":MAILTO:jdrw9591@gmail.com
END:VEVENT
BEGIN:VEVENT
DTSTART;TZID=Europe/London:20250114T183000
DTEND;TZID=Europe/London:20250114T213000
DTSTAMP:20260421T172947
CREATED:20240915T192005Z
LAST-MODIFIED:20240915T192005Z
UID:8377-1736879400-1736890200@hammerchess.co.uk
SUMMARY:London League Division 3: Greater London 2 vs Hammersmith 3
DESCRIPTION:
URL:https://hammerchess.co.uk/event/london-league-division-3-greater-london-2-vs-hammersmith-3/
LOCATION:GLCC\, Upper Vestry House\, St George's Church\, 6-7 Little Russell Street\, London\, WC1A2HS\, United Kingdom
CATEGORIES:League Matches
ORGANIZER;CN="David Lambert":MAILTO:davidlambert80@gmail.com
END:VEVENT
BEGIN:VEVENT
DTSTART;TZID=Europe/London:20250121T184500
DTEND;TZID=Europe/London:20250121T214500
DTSTAMP:20260421T172947
CREATED:20240915T192724Z
LAST-MODIFIED:20240915T192726Z
UID:8380-1737485100-1737495900@hammerchess.co.uk
SUMMARY:London League Division 3: Hammersmith 2 vs Charlton 1
DESCRIPTION:
URL:https://hammerchess.co.uk/event/london-league-division-3-hammersmith-2-vs-charlton-1/
LOCATION:MindSports Centre\, 21-23 Dalling Road\, London\, London\, W60JD\, United Kingdom
CATEGORIES:League Matches
ORGANIZER;CN="John White":MAILTO:jdrw9591@gmail.com
END:VEVENT
BEGIN:VEVENT
DTSTART;TZID=Europe/London:20250128T184500
DTEND;TZID=Europe/London:20250128T214500
DTSTAMP:20260421T172947
CREATED:20240915T192725Z
LAST-MODIFIED:20240915T192726Z
UID:8382-1738089900-1738100700@hammerchess.co.uk
SUMMARY:London League Division 3: Wimbledon 1 vs Hammersmith 2
DESCRIPTION:
URL:https://hammerchess.co.uk/event/london-league-division-3-wimbledon-1-vs-hammersmith-2/
LOCATION:MindSports Centre\, 21-23 Dalling Road\, London\, London\, W60JD\, United Kingdom
CATEGORIES:League Matches
ORGANIZER;CN="John White":MAILTO:jdrw9591@gmail.com
END:VEVENT
END:VCALENDAR