BEGIN:VCALENDAR
VERSION:2.0
PRODID:-//Hammersmith Chess Club - ECPv6.15.20//NONSGML v1.0//EN
CALSCALE:GREGORIAN
METHOD:PUBLISH
X-WR-CALNAME:Hammersmith Chess Club
X-ORIGINAL-URL:https://hammerchess.co.uk
X-WR-CALDESC:Events for Hammersmith Chess Club
REFRESH-INTERVAL;VALUE=DURATION:PT1H
X-Robots-Tag:noindex
X-PUBLISHED-TTL:PT1H
BEGIN:VTIMEZONE
TZID:Europe/London
BEGIN:DAYLIGHT
TZOFFSETFROM:+0000
TZOFFSETTO:+0100
TZNAME:BST
DTSTART:20230326T010000
END:DAYLIGHT
BEGIN:STANDARD
TZOFFSETFROM:+0100
TZOFFSETTO:+0000
TZNAME:GMT
DTSTART:20231029T010000
END:STANDARD
BEGIN:DAYLIGHT
TZOFFSETFROM:+0000
TZOFFSETTO:+0100
TZNAME:BST
DTSTART:20240331T010000
END:DAYLIGHT
BEGIN:STANDARD
TZOFFSETFROM:+0100
TZOFFSETTO:+0000
TZNAME:GMT
DTSTART:20241027T010000
END:STANDARD
BEGIN:DAYLIGHT
TZOFFSETFROM:+0000
TZOFFSETTO:+0100
TZNAME:BST
DTSTART:20250330T010000
END:DAYLIGHT
BEGIN:STANDARD
TZOFFSETFROM:+0100
TZOFFSETTO:+0000
TZNAME:GMT
DTSTART:20251026T010000
END:STANDARD
END:VTIMEZONE
BEGIN:VEVENT
DTSTART;TZID=Europe/London:20241119T184500
DTEND;TZID=Europe/London:20241119T214500
DTSTAMP:20260421T203408
CREATED:20240915T192650Z
LAST-MODIFIED:20240915T192652Z
UID:8362-1732041900-1732052700@hammerchess.co.uk
SUMMARY:London League Division 3: Hammersmith 2 vs Ilford 1
DESCRIPTION:
URL:https://hammerchess.co.uk/event/london-league-division-3-hammersmith-2-vs-ilford-1/
LOCATION:MindSports Centre\, 21-23 Dalling Road\, London\, London\, W60JD\, United Kingdom
CATEGORIES:League Matches
ORGANIZER;CN="John White":MAILTO:jdrw9591@gmail.com
END:VEVENT
BEGIN:VEVENT
DTSTART;TZID=Europe/London:20241128T183000
DTEND;TZID=Europe/London:20241128T213000
DTSTAMP:20260421T203408
CREATED:20240915T192005Z
LAST-MODIFIED:20240915T192005Z
UID:8368-1732818600-1732829400@hammerchess.co.uk
SUMMARY:London League Division 3: Metropolitan 2 vs Hammersmith 3
DESCRIPTION:
URL:https://hammerchess.co.uk/event/london-league-division-3-metropolitan-2-vs-hammersmith-3/
LOCATION:Metropolitan\, The Artizan Community Centre\, Gravel Lane\, London\, E17AW\, United Kingdom
CATEGORIES:League Matches
ORGANIZER;CN="David Lambert":MAILTO:davidlambert80@gmail.com
END:VEVENT
END:VCALENDAR