BEGIN:VCALENDAR
VERSION:2.0
PRODID:-//Hammersmith Chess Club - ECPv6.15.20//NONSGML v1.0//EN
CALSCALE:GREGORIAN
METHOD:PUBLISH
X-WR-CALNAME:Hammersmith Chess Club
X-ORIGINAL-URL:https://hammerchess.co.uk
X-WR-CALDESC:Events for Hammersmith Chess Club
REFRESH-INTERVAL;VALUE=DURATION:PT1H
X-Robots-Tag:noindex
X-PUBLISHED-TTL:PT1H
BEGIN:VTIMEZONE
TZID:Europe/London
BEGIN:DAYLIGHT
TZOFFSETFROM:+0000
TZOFFSETTO:+0100
TZNAME:BST
DTSTART:20230326T010000
END:DAYLIGHT
BEGIN:STANDARD
TZOFFSETFROM:+0100
TZOFFSETTO:+0000
TZNAME:GMT
DTSTART:20231029T010000
END:STANDARD
BEGIN:DAYLIGHT
TZOFFSETFROM:+0000
TZOFFSETTO:+0100
TZNAME:BST
DTSTART:20240331T010000
END:DAYLIGHT
BEGIN:STANDARD
TZOFFSETFROM:+0100
TZOFFSETTO:+0000
TZNAME:GMT
DTSTART:20241027T010000
END:STANDARD
BEGIN:DAYLIGHT
TZOFFSETFROM:+0000
TZOFFSETTO:+0100
TZNAME:BST
DTSTART:20250330T010000
END:DAYLIGHT
BEGIN:STANDARD
TZOFFSETFROM:+0100
TZOFFSETTO:+0000
TZNAME:GMT
DTSTART:20251026T010000
END:STANDARD
END:VTIMEZONE
BEGIN:VEVENT
DTSTART;TZID=Europe/London:20240502T183000
DTEND;TZID=Europe/London:20240502T213000
DTSTAMP:20260422T071531
CREATED:20230927T191014Z
LAST-MODIFIED:20230927T191015Z
UID:7165-1714674600-1714685400@hammerchess.co.uk
SUMMARY:London League Division 3: Metropolitan 2 MET vs Hammersmith 2 MSC
DESCRIPTION:
URL:https://hammerchess.co.uk/event/london-league-division-3-metropolitan-2-met-vs-hammersmith-2-msc-2/
LOCATION:Metropolitan\, The Artizan Community Centre\, Gravel Lane\, London\, E17AW\, United Kingdom
CATEGORIES:League Matches
ORGANIZER;CN="John White":MAILTO:jdrw9591@gmail.com
END:VEVENT
BEGIN:VEVENT
DTSTART;TZID=Europe/London:20240515T183000
DTEND;TZID=Europe/London:20240515T214500
DTSTAMP:20260422T071531
CREATED:20230927T191028Z
LAST-MODIFIED:20231230T210701Z
UID:7175-1715797800-1715809500@hammerchess.co.uk
SUMMARY:London League Division 3: Hammersmith 3 SMH vs Ilford 1 SMH
DESCRIPTION:
URL:https://hammerchess.co.uk/event/london-league-division-3-hammersmith-3-smh-vs-ilford-1-smh-2/
LOCATION:St. Margaret’s House\, 15-17 Old Ford Road\, Bethnal Green\, London\, E29PL\, United Kingdom
CATEGORIES:League Matches
ORGANIZER;CN="David Lambert":MAILTO:davidlambert80@gmail.com
END:VEVENT
END:VCALENDAR