BEGIN:VCALENDAR
VERSION:2.0
PRODID:-//Hammersmith Chess Club - ECPv6.15.20//NONSGML v1.0//EN
CALSCALE:GREGORIAN
METHOD:PUBLISH
X-ORIGINAL-URL:https://hammerchess.co.uk
X-WR-CALDESC:Events for Hammersmith Chess Club
REFRESH-INTERVAL;VALUE=DURATION:PT1H
X-Robots-Tag:noindex
X-PUBLISHED-TTL:PT1H
BEGIN:VTIMEZONE
TZID:Europe/London
BEGIN:DAYLIGHT
TZOFFSETFROM:+0000
TZOFFSETTO:+0100
TZNAME:BST
DTSTART:20230326T010000
END:DAYLIGHT
BEGIN:STANDARD
TZOFFSETFROM:+0100
TZOFFSETTO:+0000
TZNAME:GMT
DTSTART:20231029T010000
END:STANDARD
BEGIN:DAYLIGHT
TZOFFSETFROM:+0000
TZOFFSETTO:+0100
TZNAME:BST
DTSTART:20240331T010000
END:DAYLIGHT
BEGIN:STANDARD
TZOFFSETFROM:+0100
TZOFFSETTO:+0000
TZNAME:GMT
DTSTART:20241027T010000
END:STANDARD
BEGIN:DAYLIGHT
TZOFFSETFROM:+0000
TZOFFSETTO:+0100
TZNAME:BST
DTSTART:20250330T010000
END:DAYLIGHT
BEGIN:STANDARD
TZOFFSETFROM:+0100
TZOFFSETTO:+0000
TZNAME:GMT
DTSTART:20251026T010000
END:STANDARD
END:VTIMEZONE
BEGIN:VEVENT
DTSTART;TZID=Europe/London:20240109T190000
DTEND;TZID=Europe/London:20240109T220000
DTSTAMP:20260422T142337
CREATED:20230927T190910Z
LAST-MODIFIED:20230927T190910Z
UID:7128-1704826800-1704837600@hammerchess.co.uk
SUMMARY:London League Division 3: Battersea 2 BLC vs Hammersmith 3 SMH
DESCRIPTION:
URL:https://hammerchess.co.uk/event/london-league-division-3-battersea-2-blc-vs-hammersmith-3-smh-2/
LOCATION:Battersea Labour Club\, 81-83\, Falcon Road\, Battersea\, London\, SW112PF\, United Kingdom
CATEGORIES:League Matches
ORGANIZER;CN="David Lambert":MAILTO:davidlambert80@gmail.com
END:VEVENT
BEGIN:VEVENT
DTSTART;TZID=Europe/London:20240116T190000
DTEND;TZID=Europe/London:20240116T220000
DTSTAMP:20260422T142337
CREATED:20230927T190928Z
LAST-MODIFIED:20230927T190928Z
UID:7132-1705431600-1705442400@hammerchess.co.uk
SUMMARY:London League Division 3: Battersea 2 BLC vs Hammersmith 2 MSC
DESCRIPTION:
URL:https://hammerchess.co.uk/event/london-league-division-3-battersea-2-blc-vs-hammersmith-2-msc-2/
LOCATION:Battersea Labour Club\, 81-83\, Falcon Road\, Battersea\, London\, SW112PF\, United Kingdom
CATEGORIES:League Matches
ORGANIZER;CN="John White":MAILTO:jdrw9591@gmail.com
END:VEVENT
END:VCALENDAR