BEGIN:VCALENDAR
VERSION:2.0
PRODID:-//Hammersmith Chess Club - ECPv6.15.20//NONSGML v1.0//EN
CALSCALE:GREGORIAN
METHOD:PUBLISH
X-ORIGINAL-URL:https://hammerchess.co.uk
X-WR-CALDESC:Events for Hammersmith Chess Club
REFRESH-INTERVAL;VALUE=DURATION:PT1H
X-Robots-Tag:noindex
X-PUBLISHED-TTL:PT1H
BEGIN:VTIMEZONE
TZID:Europe/London
BEGIN:DAYLIGHT
TZOFFSETFROM:+0000
TZOFFSETTO:+0100
TZNAME:BST
DTSTART:20220327T010000
END:DAYLIGHT
BEGIN:STANDARD
TZOFFSETFROM:+0100
TZOFFSETTO:+0000
TZNAME:GMT
DTSTART:20221030T010000
END:STANDARD
BEGIN:DAYLIGHT
TZOFFSETFROM:+0000
TZOFFSETTO:+0100
TZNAME:BST
DTSTART:20230326T010000
END:DAYLIGHT
BEGIN:STANDARD
TZOFFSETFROM:+0100
TZOFFSETTO:+0000
TZNAME:GMT
DTSTART:20231029T010000
END:STANDARD
BEGIN:DAYLIGHT
TZOFFSETFROM:+0000
TZOFFSETTO:+0100
TZNAME:BST
DTSTART:20240331T010000
END:DAYLIGHT
BEGIN:STANDARD
TZOFFSETFROM:+0100
TZOFFSETTO:+0000
TZNAME:GMT
DTSTART:20241027T010000
END:STANDARD
END:VTIMEZONE
BEGIN:VEVENT
DTSTART;TZID=Europe/London:20231206T184500
DTEND;TZID=Europe/London:20231206T214500
DTSTAMP:20260422T160049
CREATED:20230927T190853Z
LAST-MODIFIED:20230927T190853Z
UID:7124-1701888300-1701899100@hammerchess.co.uk
SUMMARY:London League Division 3: Ilford 1 SMH vs Hammersmith 2 MSC
DESCRIPTION:
URL:https://hammerchess.co.uk/event/london-league-division-3-ilford-1-smh-vs-hammersmith-2-msc-2/
LOCATION:St. Margaret’s House\, 15-17 Old Ford Road\, Bethnal Green\, London\, E29PL\, United Kingdom
CATEGORIES:League Matches
ORGANIZER;CN="John White":MAILTO:jdrw9591@gmail.com
END:VEVENT
END:VCALENDAR