BEGIN:VCALENDAR
VERSION:2.0
PRODID:-//Hammersmith Chess Club - ECPv6.15.20//NONSGML v1.0//EN
CALSCALE:GREGORIAN
METHOD:PUBLISH
X-ORIGINAL-URL:https://hammerchess.co.uk
X-WR-CALDESC:Events for Hammersmith Chess Club
REFRESH-INTERVAL;VALUE=DURATION:PT1H
X-Robots-Tag:noindex
X-PUBLISHED-TTL:PT1H
BEGIN:VTIMEZONE
TZID:Europe/London
BEGIN:DAYLIGHT
TZOFFSETFROM:+0000
TZOFFSETTO:+0100
TZNAME:BST
DTSTART:20250330T010000
END:DAYLIGHT
BEGIN:STANDARD
TZOFFSETFROM:+0100
TZOFFSETTO:+0000
TZNAME:GMT
DTSTART:20251026T010000
END:STANDARD
BEGIN:DAYLIGHT
TZOFFSETFROM:+0000
TZOFFSETTO:+0100
TZNAME:BST
DTSTART:20260329T010000
END:DAYLIGHT
BEGIN:STANDARD
TZOFFSETFROM:+0100
TZOFFSETTO:+0000
TZNAME:GMT
DTSTART:20261025T010000
END:STANDARD
BEGIN:DAYLIGHT
TZOFFSETFROM:+0000
TZOFFSETTO:+0100
TZNAME:BST
DTSTART:20270328T010000
END:DAYLIGHT
BEGIN:STANDARD
TZOFFSETFROM:+0100
TZOFFSETTO:+0000
TZNAME:GMT
DTSTART:20271031T010000
END:STANDARD
END:VTIMEZONE
BEGIN:VEVENT
DTSTART;TZID=Europe/London:20260610T183000
DTEND;TZID=Europe/London:20260610T213000
DTSTAMP:20260421T092352
CREATED:20250921T221716Z
LAST-MODIFIED:20250929T184059Z
UID:9780-1781116200-1781127000@hammerchess.co.uk
SUMMARY:London League Women's: Lewisham Women vs Hammersmith Women 1
DESCRIPTION:
URL:https://hammerchess.co.uk/event/london-league-womens-lewisham-women-vs-hammersmith-women-1/
LOCATION:St. Margaret’s House\, 15-17 Old Ford Road\, Bethnal Green\, London\, E29PL\, United Kingdom
CATEGORIES:League Matches
ORGANIZER;CN="Anastasija Royce":MAILTO:surija@mail.ru
END:VEVENT
END:VCALENDAR