BEGIN:VCALENDAR
VERSION:2.0
PRODID:-//Hammersmith Chess Club - ECPv6.15.20//NONSGML v1.0//EN
CALSCALE:GREGORIAN
METHOD:PUBLISH
X-ORIGINAL-URL:https://hammerchess.co.uk
X-WR-CALDESC:Events for Hammersmith Chess Club
REFRESH-INTERVAL;VALUE=DURATION:PT1H
X-Robots-Tag:noindex
X-PUBLISHED-TTL:PT1H
BEGIN:VTIMEZONE
TZID:Europe/London
BEGIN:DAYLIGHT
TZOFFSETFROM:+0000
TZOFFSETTO:+0100
TZNAME:BST
DTSTART:20250330T010000
END:DAYLIGHT
BEGIN:STANDARD
TZOFFSETFROM:+0100
TZOFFSETTO:+0000
TZNAME:GMT
DTSTART:20251026T010000
END:STANDARD
BEGIN:DAYLIGHT
TZOFFSETFROM:+0000
TZOFFSETTO:+0100
TZNAME:BST
DTSTART:20260329T010000
END:DAYLIGHT
BEGIN:STANDARD
TZOFFSETFROM:+0100
TZOFFSETTO:+0000
TZNAME:GMT
DTSTART:20261025T010000
END:STANDARD
BEGIN:DAYLIGHT
TZOFFSETFROM:+0000
TZOFFSETTO:+0100
TZNAME:BST
DTSTART:20270328T010000
END:DAYLIGHT
BEGIN:STANDARD
TZOFFSETFROM:+0100
TZOFFSETTO:+0000
TZNAME:GMT
DTSTART:20271031T010000
END:STANDARD
END:VTIMEZONE
BEGIN:VEVENT
DTSTART;TZID=Europe/London:20260303T184500
DTEND;TZID=Europe/London:20260303T214500
DTSTAMP:20260421T005428
CREATED:20250921T221444Z
LAST-MODIFIED:20251119T152224Z
UID:9699-1772563500-1772574300@hammerchess.co.uk
SUMMARY:London League Division 1: Imperial College 1 vs Hammersmith 1
DESCRIPTION:
URL:https://hammerchess.co.uk/event/london-league-division-1-imperial-college-1-vs-hammersmith-1/
LOCATION:Imperial College\, Meeting Room 4\, Student Union\, Prince Consort Road\, London\, SW72BB\, United Kingdom
CATEGORIES:League Matches
ORGANIZER;CN="Gaston Franco":MAILTO:gastonfranco1990@gmail.com
END:VEVENT
BEGIN:VEVENT
DTSTART;TZID=Europe/London:20260319T184500
DTEND;TZID=Europe/London:20260319T214500
DTSTAMP:20260421T005428
CREATED:20250921T221624Z
LAST-MODIFIED:20250921T221624Z
UID:9751-1773945900-1773956700@hammerchess.co.uk
SUMMARY:London League Division 1: Cavendish 1 vs Hammersmith 1
DESCRIPTION:
URL:https://hammerchess.co.uk/event/london-league-division-1-cavendish-1-vs-hammersmith-1-2/
LOCATION:Cavendish\, Millman Street Community Centre\, 50 Millman Street\, Holborn\, London\, WC1N3EW\, United Kingdom
CATEGORIES:League Matches
ORGANIZER;CN="Gaston Franco":MAILTO:gastonfranco1990@gmail.com
END:VEVENT
END:VCALENDAR