BEGIN:VCALENDAR
VERSION:2.0
PRODID:-//Hammersmith Chess Club - ECPv6.15.20//NONSGML v1.0//EN
CALSCALE:GREGORIAN
METHOD:PUBLISH
X-WR-CALNAME:Hammersmith Chess Club
X-ORIGINAL-URL:https://hammerchess.co.uk
X-WR-CALDESC:Events for Hammersmith Chess Club
REFRESH-INTERVAL;VALUE=DURATION:PT1H
X-Robots-Tag:noindex
X-PUBLISHED-TTL:PT1H
BEGIN:VTIMEZONE
TZID:Europe/London
BEGIN:DAYLIGHT
TZOFFSETFROM:+0000
TZOFFSETTO:+0100
TZNAME:BST
DTSTART:20230326T010000
END:DAYLIGHT
BEGIN:STANDARD
TZOFFSETFROM:+0100
TZOFFSETTO:+0000
TZNAME:GMT
DTSTART:20231029T010000
END:STANDARD
BEGIN:DAYLIGHT
TZOFFSETFROM:+0000
TZOFFSETTO:+0100
TZNAME:BST
DTSTART:20240331T010000
END:DAYLIGHT
BEGIN:STANDARD
TZOFFSETFROM:+0100
TZOFFSETTO:+0000
TZNAME:GMT
DTSTART:20241027T010000
END:STANDARD
BEGIN:DAYLIGHT
TZOFFSETFROM:+0000
TZOFFSETTO:+0100
TZNAME:BST
DTSTART:20250330T010000
END:DAYLIGHT
BEGIN:STANDARD
TZOFFSETFROM:+0100
TZOFFSETTO:+0000
TZNAME:GMT
DTSTART:20251026T010000
END:STANDARD
END:VTIMEZONE
BEGIN:VEVENT
DTSTART;TZID=Europe/London:20241212T183000
DTEND;TZID=Europe/London:20241212T213000
DTSTAMP:20260423T031820
CREATED:20240915T192349Z
LAST-MODIFIED:20240915T192350Z
UID:8272-1734028200-1734039000@hammerchess.co.uk
SUMMARY:Central London League Division 4: Pimlico 4 vs Hammersmith 3
DESCRIPTION:
URL:https://hammerchess.co.uk/event/central-london-league-division-4-pimlico-4-vs-hammersmith-3/
LOCATION:Pimlico\, Churchill Gardens Tenants Association\, Glasgow Terrace\, London\, SW1V3A\, United Kingdom
CATEGORIES:League Matches
ORGANIZER;CN="Andrew Cuff":MAILTO:andrew.cuff@fco.gov.uk
END:VEVENT
END:VCALENDAR