BEGIN:VCALENDAR
VERSION:2.0
PRODID:-//Hammersmith Chess Club - ECPv6.15.20//NONSGML v1.0//EN
CALSCALE:GREGORIAN
METHOD:PUBLISH
X-WR-CALNAME:Hammersmith Chess Club
X-ORIGINAL-URL:https://hammerchess.co.uk
X-WR-CALDESC:Events for Hammersmith Chess Club
REFRESH-INTERVAL;VALUE=DURATION:PT1H
X-Robots-Tag:noindex
X-PUBLISHED-TTL:PT1H
BEGIN:VTIMEZONE
TZID:Europe/London
BEGIN:DAYLIGHT
TZOFFSETFROM:+0000
TZOFFSETTO:+0100
TZNAME:BST
DTSTART:20230326T010000
END:DAYLIGHT
BEGIN:STANDARD
TZOFFSETFROM:+0100
TZOFFSETTO:+0000
TZNAME:GMT
DTSTART:20231029T010000
END:STANDARD
BEGIN:DAYLIGHT
TZOFFSETFROM:+0000
TZOFFSETTO:+0100
TZNAME:BST
DTSTART:20240331T010000
END:DAYLIGHT
BEGIN:STANDARD
TZOFFSETFROM:+0100
TZOFFSETTO:+0000
TZNAME:GMT
DTSTART:20241027T010000
END:STANDARD
BEGIN:DAYLIGHT
TZOFFSETFROM:+0000
TZOFFSETTO:+0100
TZNAME:BST
DTSTART:20250330T010000
END:DAYLIGHT
BEGIN:STANDARD
TZOFFSETFROM:+0100
TZOFFSETTO:+0000
TZNAME:GMT
DTSTART:20251026T010000
END:STANDARD
END:VTIMEZONE
BEGIN:VEVENT
DTSTART;TZID=Europe/London:20241107T193000
DTEND;TZID=Europe/London:20241107T223000
DTSTAMP:20260423T033402
CREATED:20240915T192407Z
LAST-MODIFIED:20241031T182746Z
UID:8280-1731007800-1731018600@hammerchess.co.uk
SUMMARY:Thames Valley League Division 1: Hammersmith A vs Richmond A
DESCRIPTION:
URL:https://hammerchess.co.uk/event/thames-valley-league-division-1-hammersmith-a-vs-richmond-a/
LOCATION:MindSports Centre\, 21-23 Dalling Road\, London\, London\, W60JD\, United Kingdom
CATEGORIES:League Matches
ORGANIZER;CN="Bajrush Kelmendi":MAILTO:bajrush@tonisystems.co.uk
END:VEVENT
BEGIN:VEVENT
DTSTART;TZID=Europe/London:20241121T193000
DTEND;TZID=Europe/London:20241121T223000
DTSTAMP:20260423T033402
CREATED:20240915T192408Z
LAST-MODIFIED:20241031T182746Z
UID:8281-1732217400-1732228200@hammerchess.co.uk
SUMMARY:Thames Valley League Division 1: Hammersmith A vs Maidenhead A
DESCRIPTION:
URL:https://hammerchess.co.uk/event/thames-valley-league-division-1-hammersmith-a-vs-maidenhead-a-2/
LOCATION:MindSports Centre\, 21-23 Dalling Road\, London\, London\, W60JD\, United Kingdom
CATEGORIES:League Matches
ORGANIZER;CN="Bajrush Kelmendi":MAILTO:bajrush@tonisystems.co.uk
END:VEVENT
BEGIN:VEVENT
DTSTART;TZID=Europe/London:20241128T193000
DTEND;TZID=Europe/London:20241128T223000
DTSTAMP:20260423T033402
CREATED:20240915T192408Z
LAST-MODIFIED:20240915T192409Z
UID:8282-1732822200-1732833000@hammerchess.co.uk
SUMMARY:Thames Valley League Division 1: Wimbledon A vs Hammersmith A
DESCRIPTION:
URL:https://hammerchess.co.uk/event/thames-valley-league-division-1-wimbledon-a-vs-hammersmith-a-2/
LOCATION:Wimbledon\, St. Winefride's Church Hall\, The Hall\, Bridges Road\, London\, SW191EN\, United Kingdom
CATEGORIES:League Matches
ORGANIZER;CN="Bajrush Kelmendi":MAILTO:bajrush@tonisystems.co.uk
END:VEVENT
END:VCALENDAR