BEGIN:VCALENDAR
VERSION:2.0
PRODID:-//Hammersmith Chess Club - ECPv6.15.20//NONSGML v1.0//EN
CALSCALE:GREGORIAN
METHOD:PUBLISH
X-ORIGINAL-URL:https://hammerchess.co.uk
X-WR-CALDESC:Events for Hammersmith Chess Club
REFRESH-INTERVAL;VALUE=DURATION:PT1H
X-Robots-Tag:noindex
X-PUBLISHED-TTL:PT1H
BEGIN:VTIMEZONE
TZID:Europe/London
BEGIN:DAYLIGHT
TZOFFSETFROM:+0000
TZOFFSETTO:+0100
TZNAME:BST
DTSTART:20250330T010000
END:DAYLIGHT
BEGIN:STANDARD
TZOFFSETFROM:+0100
TZOFFSETTO:+0000
TZNAME:GMT
DTSTART:20251026T010000
END:STANDARD
BEGIN:DAYLIGHT
TZOFFSETFROM:+0000
TZOFFSETTO:+0100
TZNAME:BST
DTSTART:20260329T010000
END:DAYLIGHT
BEGIN:STANDARD
TZOFFSETFROM:+0100
TZOFFSETTO:+0000
TZNAME:GMT
DTSTART:20261025T010000
END:STANDARD
BEGIN:DAYLIGHT
TZOFFSETFROM:+0000
TZOFFSETTO:+0100
TZNAME:BST
DTSTART:20270328T010000
END:DAYLIGHT
BEGIN:STANDARD
TZOFFSETFROM:+0100
TZOFFSETTO:+0000
TZNAME:GMT
DTSTART:20271031T010000
END:STANDARD
END:VTIMEZONE
BEGIN:VEVENT
DTSTART;TZID=Europe/London:20260527T183000
DTEND;TZID=Europe/London:20260527T213000
DTSTAMP:20260421T172925
CREATED:20250921T221701Z
LAST-MODIFIED:20250921T221702Z
UID:9772-1779906600-1779917400@hammerchess.co.uk
SUMMARY:London League Division 3: Charlton 1 vs Hammersmith 3
DESCRIPTION:
URL:https://hammerchess.co.uk/event/london-league-division-3-charlton-1-vs-hammersmith-3/
LOCATION:St. Margaret’s House\, 15-17 Old Ford Road\, Bethnal Green\, London\, E29PL\, United Kingdom
CATEGORIES:League Matches
ORGANIZER;CN="David Lambert":MAILTO:davidlambert80@gmail.com
END:VEVENT
BEGIN:VEVENT
DTSTART;TZID=Europe/London:20260528T190000
DTEND;TZID=Europe/London:20260528T220000
DTSTAMP:20260421T172925
CREATED:20250921T221944Z
LAST-MODIFIED:20250921T221944Z
UID:9858-1779994800-1780005600@hammerchess.co.uk
SUMMARY:Middlesex League Division 2: Hammersmith 2 vs Ealing 1
DESCRIPTION:
URL:https://hammerchess.co.uk/event/middlesex-league-division-2-hammersmith-2-vs-ealing-1/
LOCATION:MindSports Centre\, 21-23 Dalling Road\, London\, London\, W60JD\, United Kingdom
CATEGORIES:League Matches
ORGANIZER;CN="Florin Toma":MAILTO:florin.toma@outlook.com
END:VEVENT
BEGIN:VEVENT
DTSTART;TZID=Europe/London:20260528T193000
DTEND;TZID=Europe/London:20260528T223000
DTSTAMP:20260421T172925
CREATED:20250921T221746Z
LAST-MODIFIED:20260306T214330Z
UID:9796-1779996600-1780007400@hammerchess.co.uk
SUMMARY:Thames Valley League Division 1: Richmond & Twickenham A vs Hammersmith A
DESCRIPTION:
URL:https://hammerchess.co.uk/event/thames-valley-league-division-1-richmond-twickenham-a-vs-hammersmith-a/
LOCATION:Richmond and Twickenham\, Cambridge Park Bowls Club\, Cambridge Park\, Twickenham\, London\, TW1 2PG\, United Kingdom
CATEGORIES:League Matches
END:VEVENT
BEGIN:VEVENT
DTSTART;TZID=Europe/London:20260602T183000
DTEND;TZID=Europe/London:20260602T213000
DTSTAMP:20260421T172925
CREATED:20250921T221709Z
LAST-MODIFIED:20250921T221709Z
UID:9773-1780425000-1780435800@hammerchess.co.uk
SUMMARY:London League Division 4: Greater London 2 vs Hammersmith 4
DESCRIPTION:
URL:https://hammerchess.co.uk/event/london-league-division-4-greater-london-2-vs-hammersmith-4/
LOCATION:GLCC\, Upper Vestry House\, St George's Church\, 6-7 Little Russell Street\, London\, WC1A2HS\, United Kingdom
CATEGORIES:League Matches
ORGANIZER;CN="Nadim Osseiran":MAILTO:nadimosseiran@gmail.com
END:VEVENT
BEGIN:VEVENT
DTSTART;TZID=Europe/London:20260602T183000
DTEND;TZID=Europe/London:20260602T213000
DTSTAMP:20260421T172925
CREATED:20250921T221709Z
LAST-MODIFIED:20250921T221709Z
UID:9774-1780425000-1780435800@hammerchess.co.uk
SUMMARY:London League Minor: London Women Cobra vs Hammersmith Mackenzie
DESCRIPTION:
URL:https://hammerchess.co.uk/event/london-league-minor-london-women-cobra-vs-hammersmith-mackenzie-2/
LOCATION:Charing Cross Library\, 4-6 Charing Cross Road\, London\, WC2H 0HF\, United Kingdom
CATEGORIES:League Matches
END:VEVENT
BEGIN:VEVENT
DTSTART;TZID=Europe/London:20260602T184500
DTEND;TZID=Europe/London:20260602T214500
DTSTAMP:20260421T172925
CREATED:20250921T221709Z
LAST-MODIFIED:20250921T221709Z
UID:9775-1780425900-1780436700@hammerchess.co.uk
SUMMARY:London League Division 1: Richmond & Twickenham 1 vs Hammersmith 1
DESCRIPTION:
URL:https://hammerchess.co.uk/event/london-league-division-1-richmond-twickenham-1-vs-hammersmith-1/
LOCATION:MindSports Centre\, 21-23 Dalling Road\, London\, London\, W60JD\, United Kingdom
CATEGORIES:League Matches
ORGANIZER;CN="Gaston Franco":MAILTO:gastonfranco1990@gmail.com
END:VEVENT
BEGIN:VEVENT
DTSTART;TZID=Europe/London:20260602T184500
DTEND;TZID=Europe/London:20260602T214500
DTSTAMP:20260421T172925
CREATED:20250921T221709Z
LAST-MODIFIED:20250921T221709Z
UID:9776-1780425900-1780436700@hammerchess.co.uk
SUMMARY:London League Minor: Battersea Minor vs Hammersmith Cadets
DESCRIPTION:
URL:https://hammerchess.co.uk/event/london-league-minor-battersea-minor-vs-hammersmith-cadets/
LOCATION:MindSports Centre\, 21-23 Dalling Road\, London\, London\, W60JD\, United Kingdom
CATEGORIES:League Matches
ORGANIZER;CN="Tom Townsend":MAILTO:tomgt@globalnet.co.uk
END:VEVENT
BEGIN:VEVENT
DTSTART;TZID=Europe/London:20260602T190000
DTEND;TZID=Europe/London:20260602T220000
DTSTAMP:20260421T172925
CREATED:20250921T221716Z
LAST-MODIFIED:20260306T221151Z
UID:9777-1780426800-1780437600@hammerchess.co.uk
SUMMARY:London League Major: Battersea Dogs vs Hammersmith Hodgson
DESCRIPTION:
URL:https://hammerchess.co.uk/event/london-league-major-battersea-dogs-vs-hammersmith-hodgson/
LOCATION:Battersea Labour Club\, 81-83\, Falcon Road\, Battersea\, London\, SW112PF\, United Kingdom
CATEGORIES:League Matches
ORGANIZER;CN="Gaston Franco":MAILTO:gastonfranco1990@gmail.com
END:VEVENT
BEGIN:VEVENT
DTSTART;TZID=Europe/London:20260604T190000
DTEND;TZID=Europe/London:20260604T220000
DTSTAMP:20260421T172925
CREATED:20250921T221914Z
LAST-MODIFIED:20250921T221915Z
UID:9841-1780599600-1780610400@hammerchess.co.uk
SUMMARY:Middlesex League Division 1: Hammersmith 1 vs Metropolitan
DESCRIPTION:
URL:https://hammerchess.co.uk/event/middlesex-league-division-1-hammersmith-1-vs-metropolitan/
LOCATION:MindSports Centre\, 21-23 Dalling Road\, London\, London\, W60JD\, United Kingdom
CATEGORIES:League Matches
ORGANIZER;CN="Maria Ciocan":MAILTO:ciocanmaria2001@gmail.com
END:VEVENT
BEGIN:VEVENT
DTSTART;TZID=Europe/London:20260609T190000
DTEND;TZID=Europe/London:20260609T220000
DTSTAMP:20260421T172925
CREATED:20250921T221716Z
LAST-MODIFIED:20250921T221716Z
UID:9778-1781031600-1781042400@hammerchess.co.uk
SUMMARY:London League Division 2: Battersea 1 vs Hammersmith 2
DESCRIPTION:
URL:https://hammerchess.co.uk/event/london-league-division-2-battersea-1-vs-hammersmith-2/
LOCATION:Battersea Labour Club\, 81-83\, Falcon Road\, Battersea\, London\, SW112PF\, United Kingdom
CATEGORIES:League Matches
ORGANIZER;CN="John White":MAILTO:jdrw9591@gmail.com
END:VEVENT
BEGIN:VEVENT
DTSTART;TZID=Europe/London:20260609T190000
DTEND;TZID=Europe/London:20260609T220000
DTSTAMP:20260421T172925
CREATED:20250921T221716Z
LAST-MODIFIED:20250921T221716Z
UID:9779-1781031600-1781042400@hammerchess.co.uk
SUMMARY:London League Intermediate: Battersea Falcons vs Hammersmith Hedger
DESCRIPTION:
URL:https://hammerchess.co.uk/event/london-league-intermediate-battersea-falcons-vs-hammersmith-hedger/
LOCATION:Battersea Labour Club\, 81-83\, Falcon Road\, Battersea\, London\, SW112PF\, United Kingdom
CATEGORIES:League Matches
ORGANIZER;CN="Gianmaria Mazzaracchio":MAILTO:gianmariamazzaracchio@gmail.com
END:VEVENT
BEGIN:VEVENT
DTSTART;TZID=Europe/London:20260610T183000
DTEND;TZID=Europe/London:20260610T213000
DTSTAMP:20260421T172925
CREATED:20250921T221716Z
LAST-MODIFIED:20250929T184059Z
UID:9780-1781116200-1781127000@hammerchess.co.uk
SUMMARY:London League Women's: Lewisham Women vs Hammersmith Women 1
DESCRIPTION:
URL:https://hammerchess.co.uk/event/london-league-womens-lewisham-women-vs-hammersmith-women-1/
LOCATION:St. Margaret’s House\, 15-17 Old Ford Road\, Bethnal Green\, London\, E29PL\, United Kingdom
CATEGORIES:League Matches
ORGANIZER;CN="Anastasija Royce":MAILTO:surija@mail.ru
END:VEVENT
BEGIN:VEVENT
DTSTART;TZID=Europe/London:20260610T183000
DTEND;TZID=Europe/London:20260610T213000
DTSTAMP:20260421T172925
CREATED:20250921T221723Z
LAST-MODIFIED:20250921T221724Z
UID:9781-1781116200-1781127000@hammerchess.co.uk
SUMMARY:London League Division 4: Hackney 3 vs Hammersmith 4
DESCRIPTION:
URL:https://hammerchess.co.uk/event/london-league-division-4-hackney-3-vs-hammersmith-4/
LOCATION:St. Margaret’s House\, 15-17 Old Ford Road\, Bethnal Green\, London\, E29PL\, United Kingdom
CATEGORIES:League Matches
ORGANIZER;CN="Nadim Osseiran":MAILTO:nadimosseiran@gmail.com
END:VEVENT
BEGIN:VEVENT
DTSTART;TZID=Europe/London:20260616T183000
DTEND;TZID=Europe/London:20260616T213000
DTSTAMP:20260421T172925
CREATED:20250921T221723Z
LAST-MODIFIED:20250921T221724Z
UID:9782-1781634600-1781645400@hammerchess.co.uk
SUMMARY:London League Women's: London Women Polgar vs Hammersmith Women 2
DESCRIPTION:
URL:https://hammerchess.co.uk/event/london-league-womens-london-women-polgar-vs-hammersmith-women-2/
LOCATION:Charing Cross Library\, 4-6 Charing Cross Road\, London\, WC2H 0HF\, United Kingdom
CATEGORIES:League Matches
END:VEVENT
BEGIN:VEVENT
DTSTART;TZID=Europe/London:20260616T193000
DTEND;TZID=Europe/London:20260616T223000
DTSTAMP:20260421T172925
CREATED:20250921T221907Z
LAST-MODIFIED:20260125T181629Z
UID:9839-1781638200-1781649000@hammerchess.co.uk
SUMMARY:Middlesex League Division 1: Hackney 1 vs Hammersmith 1
DESCRIPTION:
URL:https://hammerchess.co.uk/event/middlesex-league-division-1-hackney-1-vs-hammersmith-1-2/
LOCATION:Hackney\, The Prince\, 59 Kynaston Rd\, London\, N16 0EB\, United Kingdom
CATEGORIES:League Matches
ORGANIZER;CN="Maria Ciocan":MAILTO:ciocanmaria2001@gmail.com
END:VEVENT
BEGIN:VEVENT
DTSTART;TZID=Europe/London:20260616T193000
DTEND;TZID=Europe/London:20260616T223000
DTSTAMP:20260421T172925
CREATED:20250921T222028Z
LAST-MODIFIED:20260125T181640Z
UID:9885-1781638200-1781649000@hammerchess.co.uk
SUMMARY:Middlesex League Division 3: Hackney 2 vs Hammersmith 4
DESCRIPTION:
URL:https://hammerchess.co.uk/event/middlesex-league-division-3-hackney-2-vs-hammersmith-4/
LOCATION:Hackney\, The Prince\, 59 Kynaston Rd\, London\, N16 0EB\, United Kingdom
CATEGORIES:League Matches
ORGANIZER;CN="Frantisek Zacek":MAILTO:czechripper@gmail.com
END:VEVENT
BEGIN:VEVENT
DTSTART;TZID=Europe/London:20260618T190000
DTEND;TZID=Europe/London:20260618T220000
DTSTAMP:20260421T172925
CREATED:20250921T221914Z
LAST-MODIFIED:20250921T221915Z
UID:9842-1781809200-1781820000@hammerchess.co.uk
SUMMARY:Middlesex League Division 1: Hammersmith 1 vs Albany
DESCRIPTION:
URL:https://hammerchess.co.uk/event/middlesex-league-division-1-hammersmith-1-vs-albany-2/
LOCATION:MindSports Centre\, 21-23 Dalling Road\, London\, London\, W60JD\, United Kingdom
CATEGORIES:League Matches
ORGANIZER;CN="Maria Ciocan":MAILTO:ciocanmaria2001@gmail.com
END:VEVENT
BEGIN:VEVENT
DTSTART;TZID=Europe/London:20260623T184500
DTEND;TZID=Europe/London:20260623T214500
DTSTAMP:20260421T172925
CREATED:20250921T221724Z
LAST-MODIFIED:20250921T221724Z
UID:9783-1782240300-1782251100@hammerchess.co.uk
SUMMARY:London League Division 4: Hammersmith Juniors vs Metropolitan 4
DESCRIPTION:
URL:https://hammerchess.co.uk/event/london-league-division-4-hammersmith-juniors-vs-metropolitan-4/
LOCATION:MindSports Centre\, 21-23 Dalling Road\, London\, London\, W60JD\, United Kingdom
CATEGORIES:League Matches
ORGANIZER;CN="Frank Valle":MAILTO:valletrujillo@hotmail.com
END:VEVENT
BEGIN:VEVENT
DTSTART;TZID=Europe/London:20260624T183000
DTEND;TZID=Europe/London:20260624T213000
DTSTAMP:20260421T172925
CREATED:20250921T221724Z
LAST-MODIFIED:20250921T221724Z
UID:9784-1782325800-1782336600@hammerchess.co.uk
SUMMARY:London League Division 1: Streatham & Brixton 1 vs Hammersmith 1
DESCRIPTION:
URL:https://hammerchess.co.uk/event/london-league-division-1-streatham-brixton-1-vs-hammersmith-1/
LOCATION:St. Margaret’s House\, 15-17 Old Ford Road\, Bethnal Green\, London\, E29PL\, United Kingdom
CATEGORIES:League Matches
ORGANIZER;CN="Gaston Franco":MAILTO:gastonfranco1990@gmail.com
END:VEVENT
END:VCALENDAR