BEGIN:VCALENDAR
VERSION:2.0
PRODID:-//Hammersmith Chess Club - ECPv6.15.20//NONSGML v1.0//EN
CALSCALE:GREGORIAN
METHOD:PUBLISH
X-ORIGINAL-URL:https://hammerchess.co.uk
X-WR-CALDESC:Events for Hammersmith Chess Club
REFRESH-INTERVAL;VALUE=DURATION:PT1H
X-Robots-Tag:noindex
X-PUBLISHED-TTL:PT1H
BEGIN:VTIMEZONE
TZID:Europe/London
BEGIN:DAYLIGHT
TZOFFSETFROM:+0000
TZOFFSETTO:+0100
TZNAME:BST
DTSTART:20250330T010000
END:DAYLIGHT
BEGIN:STANDARD
TZOFFSETFROM:+0100
TZOFFSETTO:+0000
TZNAME:GMT
DTSTART:20251026T010000
END:STANDARD
BEGIN:DAYLIGHT
TZOFFSETFROM:+0000
TZOFFSETTO:+0100
TZNAME:BST
DTSTART:20260329T010000
END:DAYLIGHT
BEGIN:STANDARD
TZOFFSETFROM:+0100
TZOFFSETTO:+0000
TZNAME:GMT
DTSTART:20261025T010000
END:STANDARD
BEGIN:DAYLIGHT
TZOFFSETFROM:+0000
TZOFFSETTO:+0100
TZNAME:BST
DTSTART:20270328T010000
END:DAYLIGHT
BEGIN:STANDARD
TZOFFSETFROM:+0100
TZOFFSETTO:+0000
TZNAME:GMT
DTSTART:20271031T010000
END:STANDARD
END:VTIMEZONE
BEGIN:VEVENT
DTSTART;TZID=Europe/London:20260303T184500
DTEND;TZID=Europe/London:20260303T214500
DTSTAMP:20260421T123431
CREATED:20250921T221444Z
LAST-MODIFIED:20251119T152224Z
UID:9699-1772563500-1772574300@hammerchess.co.uk
SUMMARY:London League Division 1: Imperial College 1 vs Hammersmith 1
DESCRIPTION:
URL:https://hammerchess.co.uk/event/london-league-division-1-imperial-college-1-vs-hammersmith-1/
LOCATION:Imperial College\, Meeting Room 4\, Student Union\, Prince Consort Road\, London\, SW72BB\, United Kingdom
CATEGORIES:League Matches
ORGANIZER;CN="Gaston Franco":MAILTO:gastonfranco1990@gmail.com
END:VEVENT
BEGIN:VEVENT
DTSTART;TZID=Europe/London:20260303T190000
DTEND;TZID=Europe/London:20260303T220000
DTSTAMP:20260421T123431
CREATED:20250921T221609Z
LAST-MODIFIED:20250929T183545Z
UID:9742-1772564400-1772575200@hammerchess.co.uk
SUMMARY:London League Women's: Wimbledon Women vs Hammersmith Women 1
DESCRIPTION:
URL:https://hammerchess.co.uk/event/london-league-womens-wimbledon-women-vs-hammersmith-women-1/
LOCATION:Battersea Labour Club\, 81-83\, Falcon Road\, Battersea\, London\, SW112PF\, United Kingdom
CATEGORIES:League Matches
ORGANIZER;CN="Anastasija Royce":MAILTO:surija@mail.ru
END:VEVENT
BEGIN:VEVENT
DTSTART;TZID=Europe/London:20260303T190000
DTEND;TZID=Europe/London:20260303T220000
DTSTAMP:20260421T123431
CREATED:20250921T221609Z
LAST-MODIFIED:20250921T221609Z
UID:9743-1772564400-1772575200@hammerchess.co.uk
SUMMARY:London League Minor: Hammersmith Mackenzie vs Battersea Minor
DESCRIPTION:
URL:https://hammerchess.co.uk/event/london-league-minor-hammersmith-mackenzie-vs-battersea-minor/
LOCATION:Battersea Labour Club\, 81-83\, Falcon Road\, Battersea\, London\, SW112PF\, United Kingdom
CATEGORIES:League Matches
END:VEVENT
BEGIN:VEVENT
DTSTART;TZID=Europe/London:20260305T183000
DTEND;TZID=Europe/London:20260305T213000
DTSTAMP:20260421T123431
CREATED:20250921T221609Z
LAST-MODIFIED:20250921T221609Z
UID:9744-1772735400-1772746200@hammerchess.co.uk
SUMMARY:London League Intermediate: Metropolitan Gnomes vs Hammersmith Hedger
DESCRIPTION:
URL:https://hammerchess.co.uk/event/london-league-intermediate-metropolitan-gnomes-vs-hammersmith-hedger/
LOCATION:Metropolitan\, The Artizan Community Centre\, Gravel Lane\, London\, E17AW\, United Kingdom
CATEGORIES:League Matches
ORGANIZER;CN="Gianmaria Mazzaracchio":MAILTO:gianmariamazzaracchio@gmail.com
END:VEVENT
BEGIN:VEVENT
DTSTART;TZID=Europe/London:20260305T190000
DTEND;TZID=Europe/London:20260305T220000
DTSTAMP:20260421T123431
CREATED:20250921T221823Z
LAST-MODIFIED:20260227T171850Z
UID:9813-1772737200-1772748000@hammerchess.co.uk
SUMMARY:Central London League Division 2: Hammersmith 2 vs Hammersmith 1
DESCRIPTION:
URL:https://hammerchess.co.uk/event/central-london-league-division-2-hammersmith-2-vs-hammersmith-1-2/
LOCATION:MindSports Centre\, 21-23 Dalling Road\, London\, London\, W60JD\, United Kingdom
CATEGORIES:League Matches
ORGANIZER;CN="Tom Townsend":MAILTO:tomgt@globalnet.co.uk
END:VEVENT
BEGIN:VEVENT
DTSTART;TZID=Europe/London:20260305T190000
DTEND;TZID=Europe/London:20260305T220000
DTSTAMP:20260421T123431
CREATED:20250921T221929Z
LAST-MODIFIED:20250921T221929Z
UID:9851-1772737200-1772748000@hammerchess.co.uk
SUMMARY:Middlesex League Division 2: Hammersmith 2 vs Hendon 3
DESCRIPTION:
URL:https://hammerchess.co.uk/event/middlesex-league-division-2-hammersmith-2-vs-hendon-3-2/
LOCATION:MindSports Centre\, 21-23 Dalling Road\, London\, London\, W60JD\, United Kingdom
CATEGORIES:League Matches
ORGANIZER;CN="Florin Toma":MAILTO:florin.toma@outlook.com
END:VEVENT
BEGIN:VEVENT
DTSTART;TZID=Europe/London:20260305T190000
DTEND;TZID=Europe/London:20260305T220000
DTSTAMP:20260421T123431
CREATED:20250921T222028Z
LAST-MODIFIED:20250921T222028Z
UID:9882-1772737200-1772748000@hammerchess.co.uk
SUMMARY:Middlesex League Division 3: Hammersmith 4 vs Hendon BN
DESCRIPTION:
URL:https://hammerchess.co.uk/event/middlesex-league-division-3-hammersmith-4-vs-hendon-bn/
LOCATION:MindSports Centre\, 21-23 Dalling Road\, London\, London\, W60JD\, United Kingdom
CATEGORIES:League Matches
ORGANIZER;CN="Frantisek Zacek":MAILTO:czechripper@gmail.com
END:VEVENT
BEGIN:VEVENT
DTSTART;TZID=Europe/London:20260309T193000
DTEND;TZID=Europe/London:20260309T223000
DTSTAMP:20260421T123431
CREATED:20250921T221738Z
LAST-MODIFIED:20250921T221738Z
UID:9791-1773084600-1773095400@hammerchess.co.uk
SUMMARY:Thames Valley League Division 1: Kingston A vs Hammersmith A
DESCRIPTION:
URL:https://hammerchess.co.uk/event/thames-valley-league-division-1-kingston-a-vs-hammersmith-a-3/
LOCATION:Kingston\, Richard Mayo Centre at the United Reformed Church\, Eden Street\, Kingston\, Surrey\, KT1 1HZ\, United Kingdom
CATEGORIES:League Matches
END:VEVENT
BEGIN:VEVENT
DTSTART;TZID=Europe/London:20260310T183000
DTEND;TZID=Europe/London:20260310T213000
DTSTAMP:20260421T123431
CREATED:20250921T221616Z
LAST-MODIFIED:20250921T221617Z
UID:9745-1773167400-1773178200@hammerchess.co.uk
SUMMARY:London League Division 3: DHSS 1 vs Hammersmith 3
DESCRIPTION:
URL:https://hammerchess.co.uk/event/london-league-division-3-dhss-1-vs-hammersmith-3-2/
LOCATION:DHSS\, Caxton House\, Tothill Street\, London\, SW1H9DA\, United Kingdom
CATEGORIES:League Matches
ORGANIZER;CN="David Lambert":MAILTO:davidlambert80@gmail.com
END:VEVENT
BEGIN:VEVENT
DTSTART;TZID=Europe/London:20260310T190000
DTEND;TZID=Europe/London:20260310T220000
DTSTAMP:20260421T123431
CREATED:20250921T221616Z
LAST-MODIFIED:20260306T214642Z
UID:9746-1773169200-1773180000@hammerchess.co.uk
SUMMARY:London League Major: Battersea Eagles vs Hammersmith Hodgson
DESCRIPTION:
URL:https://hammerchess.co.uk/event/london-league-major-battersea-eagles-vs-hammersmith-hodgson/
LOCATION:Battersea Labour Club\, 81-83\, Falcon Road\, Battersea\, London\, SW112PF\, United Kingdom
CATEGORIES:League Matches
ORGANIZER;CN="Gaston Franco":MAILTO:gastonfranco1990@gmail.com
END:VEVENT
BEGIN:VEVENT
DTSTART;TZID=Europe/London:20260311T183000
DTEND;TZID=Europe/London:20260311T213000
DTSTAMP:20260421T123431
CREATED:20250921T221617Z
LAST-MODIFIED:20250921T221617Z
UID:9747-1773253800-1773264600@hammerchess.co.uk
SUMMARY:London League Women's: Lewisham Women vs Hammersmith Women 2
DESCRIPTION:
URL:https://hammerchess.co.uk/event/london-league-womens-lewisham-women-vs-hammersmith-women-2/
LOCATION:St. Margaret’s House\, 15-17 Old Ford Road\, Bethnal Green\, London\, E29PL\, United Kingdom
CATEGORIES:League Matches
END:VEVENT
BEGIN:VEVENT
DTSTART;TZID=Europe/London:20260312T183000
DTEND;TZID=Europe/London:20260312T213000
DTSTAMP:20260421T123431
CREATED:20250921T221823Z
LAST-MODIFIED:20250921T221824Z
UID:9814-1773340200-1773351000@hammerchess.co.uk
SUMMARY:Central London League Division 2: Hammersmith 1 vs Battersea Galacticos
DESCRIPTION:
URL:https://hammerchess.co.uk/event/central-london-league-division-2-hammersmith-1-vs-battersea-galacticos/
LOCATION:Pimlico\, Churchill Gardens Tenants Association\, Glasgow Terrace\, London\, SW1V3A\, United Kingdom
CATEGORIES:League Matches
ORGANIZER;CN="Tom Townsend":MAILTO:tomgt@globalnet.co.uk
END:VEVENT
BEGIN:VEVENT
DTSTART;TZID=Europe/London:20260312T190000
DTEND;TZID=Europe/London:20260312T220000
DTSTAMP:20260421T123431
CREATED:20250921T221929Z
LAST-MODIFIED:20250921T221929Z
UID:9852-1773342000-1773352800@hammerchess.co.uk
SUMMARY:Middlesex League Division 2: Hammersmith 2 vs Harrow 1
DESCRIPTION:
URL:https://hammerchess.co.uk/event/middlesex-league-division-2-hammersmith-2-vs-harrow-1/
LOCATION:MindSports Centre\, 21-23 Dalling Road\, London\, London\, W60JD\, United Kingdom
CATEGORIES:League Matches
ORGANIZER;CN="Florin Toma":MAILTO:florin.toma@outlook.com
END:VEVENT
BEGIN:VEVENT
DTSTART;TZID=Europe/London:20260312T190000
DTEND;TZID=Europe/London:20260312T220000
DTSTAMP:20260421T123431
CREATED:20250921T222028Z
LAST-MODIFIED:20250921T222028Z
UID:9883-1773342000-1773352800@hammerchess.co.uk
SUMMARY:Middlesex League Division 3: Hammersmith 4 vs Kings Head 3
DESCRIPTION:
URL:https://hammerchess.co.uk/event/middlesex-league-division-3-hammersmith-4-vs-kings-head-3-2/
LOCATION:MindSports Centre\, 21-23 Dalling Road\, London\, London\, W60JD\, United Kingdom
CATEGORIES:League Matches
ORGANIZER;CN="Frantisek Zacek":MAILTO:czechripper@gmail.com
END:VEVENT
BEGIN:VEVENT
DTSTART;TZID=Europe/London:20260317T184500
DTEND;TZID=Europe/London:20260317T214500
DTSTAMP:20260421T123431
CREATED:20250921T221617Z
LAST-MODIFIED:20250921T221617Z
UID:9748-1773773100-1773783900@hammerchess.co.uk
SUMMARY:London League Division 2: Hammersmith 2 vs Kings Head 1
DESCRIPTION:
URL:https://hammerchess.co.uk/event/london-league-division-2-hammersmith-2-vs-kings-head-1/
LOCATION:MindSports Centre\, 21-23 Dalling Road\, London\, London\, W60JD\, United Kingdom
CATEGORIES:League Matches
ORGANIZER;CN="John White":MAILTO:jdrw9591@gmail.com
END:VEVENT
BEGIN:VEVENT
DTSTART;TZID=Europe/London:20260319T183000
DTEND;TZID=Europe/London:20260319T213000
DTSTAMP:20260421T123431
CREATED:20250921T221624Z
LAST-MODIFIED:20250921T221624Z
UID:9750-1773945000-1773955800@hammerchess.co.uk
SUMMARY:London League Division 4: Metropolitan 4 vs Hammersmith 4
DESCRIPTION:
URL:https://hammerchess.co.uk/event/london-league-division-4-metropolitan-4-vs-hammersmith-4/
LOCATION:Metropolitan\, The Artizan Community Centre\, Gravel Lane\, London\, E17AW\, United Kingdom
CATEGORIES:League Matches
ORGANIZER;CN="Nadim Osseiran":MAILTO:nadimosseiran@gmail.com
END:VEVENT
BEGIN:VEVENT
DTSTART;TZID=Europe/London:20260319T183000
DTEND;TZID=Europe/London:20260319T213000
DTSTAMP:20260421T123431
CREATED:20250921T221823Z
LAST-MODIFIED:20250921T221824Z
UID:9815-1773945000-1773955800@hammerchess.co.uk
SUMMARY:Central London League Division 2: Hammersmith 2 vs Battersea 1
DESCRIPTION:
URL:https://hammerchess.co.uk/event/central-london-league-division-2-hammersmith-2-vs-battersea-1-2/
LOCATION:Pimlico\, Churchill Gardens Tenants Association\, Glasgow Terrace\, London\, SW1V3A\, United Kingdom
CATEGORIES:League Matches
ORGANIZER;CN="Andrew Cuff":MAILTO:andrew.cuff@fco.gov.uk
END:VEVENT
BEGIN:VEVENT
DTSTART;TZID=Europe/London:20260319T184500
DTEND;TZID=Europe/London:20260319T214500
DTSTAMP:20260421T123431
CREATED:20250921T221624Z
LAST-MODIFIED:20250921T221624Z
UID:9751-1773945900-1773956700@hammerchess.co.uk
SUMMARY:London League Division 1: Cavendish 1 vs Hammersmith 1
DESCRIPTION:
URL:https://hammerchess.co.uk/event/london-league-division-1-cavendish-1-vs-hammersmith-1-2/
LOCATION:Cavendish\, Millman Street Community Centre\, 50 Millman Street\, Holborn\, London\, WC1N3EW\, United Kingdom
CATEGORIES:League Matches
ORGANIZER;CN="Gaston Franco":MAILTO:gastonfranco1990@gmail.com
END:VEVENT
BEGIN:VEVENT
DTSTART;TZID=Europe/London:20260320T182000
DTEND;TZID=Europe/London:20260320T212000
DTSTAMP:20260421T123431
CREATED:20250921T221624Z
LAST-MODIFIED:20250921T221624Z
UID:9752-1774030800-1774041600@hammerchess.co.uk
SUMMARY:London League Intermediate: Morley College Intermediate vs Hammersmith Hedger
DESCRIPTION:
URL:https://hammerchess.co.uk/event/london-league-intermediate-morley-college-intermediate-vs-hammersmith-hedger/
LOCATION:Morley College\, Classroom B20\, 1st Floor\, 61 Westminster Bridge Road\, London\, SE17HT\, United Kingdom
CATEGORIES:League Matches
ORGANIZER;CN="Gianmaria Mazzaracchio":MAILTO:gianmariamazzaracchio@gmail.com
END:VEVENT
BEGIN:VEVENT
DTSTART;TZID=Europe/London:20260324T183000
DTEND;TZID=Europe/London:20260324T213000
DTSTAMP:20260421T123431
CREATED:20250921T221631Z
LAST-MODIFIED:20260306T215424Z
UID:9753-1774377000-1774387800@hammerchess.co.uk
SUMMARY:London League Major: Greater London Major vs Hammersmith Hodgson
DESCRIPTION:
URL:https://hammerchess.co.uk/event/london-league-major-greater-london-major-vs-hammersmith-hodgson/
LOCATION:GLCC\, Upper Vestry House\, St George's Church\, 6-7 Little Russell Street\, London\, WC1A2HS\, United Kingdom
CATEGORIES:League Matches
ORGANIZER;CN="Gaston Franco":MAILTO:gastonfranco1990@gmail.com
END:VEVENT
BEGIN:VEVENT
DTSTART;TZID=Europe/London:20260324T191500
DTEND;TZID=Europe/London:20260324T221500
DTSTAMP:20260421T123431
CREATED:20250921T221936Z
LAST-MODIFIED:20250921T221936Z
UID:9853-1774379700-1774390500@hammerchess.co.uk
SUMMARY:Middlesex League Division 2: Muswell Hill 2 vs Hammersmith 2
DESCRIPTION:
URL:https://hammerchess.co.uk/event/middlesex-league-division-2-muswell-hill-2-vs-hammersmith-2/
LOCATION:Muswell Hill\, Clissold Arms 105\, Fortis Green\, Muswell Hill\, London\, N2 9HR\, United Kingdom
CATEGORIES:League Matches
ORGANIZER;CN="Florin Toma":MAILTO:florin.toma@outlook.com
END:VEVENT
BEGIN:VEVENT
DTSTART;TZID=Europe/London:20260326T183000
DTEND;TZID=Europe/London:20260326T213000
DTSTAMP:20260421T123431
CREATED:20250921T221845Z
LAST-MODIFIED:20250921T221845Z
UID:9827-1774549800-1774560600@hammerchess.co.uk
SUMMARY:Central London League Division 4: Hammersmith 3 vs Streatham 3
DESCRIPTION:
URL:https://hammerchess.co.uk/event/central-london-league-division-4-hammersmith-3-vs-streatham-3/
LOCATION:Pimlico\, Churchill Gardens Tenants Association\, Glasgow Terrace\, London\, SW1V3A\, United Kingdom
CATEGORIES:League Matches
ORGANIZER;CN="Gaston Franco":MAILTO:gastonfranco1990@gmail.com
END:VEVENT
BEGIN:VEVENT
DTSTART;TZID=Europe/London:20260326T193000
DTEND;TZID=Europe/London:20260326T223000
DTSTAMP:20260421T123431
CREATED:20250921T221907Z
LAST-MODIFIED:20250921T221907Z
UID:9838-1774553400-1774564200@hammerchess.co.uk
SUMMARY:Middlesex League Division 1: Hendon 1 vs Hammersmith 1
DESCRIPTION:
URL:https://hammerchess.co.uk/event/middlesex-league-division-1-hendon-1-vs-hammersmith-1-2/
LOCATION:Hendon\, Cumberland Lawn Tennis Club\, 25 Alvanley Gardens\, London\, NW6 1JD\, United Kingdom
CATEGORIES:League Matches
ORGANIZER;CN="Maria Ciocan":MAILTO:ciocanmaria2001@gmail.com
END:VEVENT
BEGIN:VEVENT
DTSTART;TZID=Europe/London:20260326T193000
DTEND;TZID=Europe/London:20260326T223000
DTSTAMP:20260421T123431
CREATED:20250921T222006Z
LAST-MODIFIED:20250921T222006Z
UID:9869-1774553400-1774564200@hammerchess.co.uk
SUMMARY:Middlesex League Division 3: Hendon 4 vs Hammersmith 3
DESCRIPTION:
URL:https://hammerchess.co.uk/event/middlesex-league-division-3-hendon-4-vs-hammersmith-3-2/
LOCATION:Hendon\, Cumberland Lawn Tennis Club\, 25 Alvanley Gardens\, London\, NW6 1JD\, United Kingdom
CATEGORIES:League Matches
ORGANIZER;CN="Luna Eastham":MAILTO:lunaeastham@gmail.com
END:VEVENT
END:VCALENDAR