BEGIN:VCALENDAR
VERSION:2.0
PRODID:-//Hammersmith Chess Club - ECPv6.15.20//NONSGML v1.0//EN
CALSCALE:GREGORIAN
METHOD:PUBLISH
X-WR-CALNAME:Hammersmith Chess Club
X-ORIGINAL-URL:https://hammerchess.co.uk
X-WR-CALDESC:Events for Hammersmith Chess Club
REFRESH-INTERVAL;VALUE=DURATION:PT1H
X-Robots-Tag:noindex
X-PUBLISHED-TTL:PT1H
BEGIN:VTIMEZONE
TZID:Europe/London
BEGIN:DAYLIGHT
TZOFFSETFROM:+0000
TZOFFSETTO:+0100
TZNAME:BST
DTSTART:20250330T010000
END:DAYLIGHT
BEGIN:STANDARD
TZOFFSETFROM:+0100
TZOFFSETTO:+0000
TZNAME:GMT
DTSTART:20251026T010000
END:STANDARD
BEGIN:DAYLIGHT
TZOFFSETFROM:+0000
TZOFFSETTO:+0100
TZNAME:BST
DTSTART:20260329T010000
END:DAYLIGHT
BEGIN:STANDARD
TZOFFSETFROM:+0100
TZOFFSETTO:+0000
TZNAME:GMT
DTSTART:20261025T010000
END:STANDARD
BEGIN:DAYLIGHT
TZOFFSETFROM:+0000
TZOFFSETTO:+0100
TZNAME:BST
DTSTART:20270328T010000
END:DAYLIGHT
BEGIN:STANDARD
TZOFFSETFROM:+0100
TZOFFSETTO:+0000
TZNAME:GMT
DTSTART:20271031T010000
END:STANDARD
END:VTIMEZONE
BEGIN:VEVENT
DTSTART;TZID=Europe/London:20260420T170000
DTEND;TZID=Europe/London:20260420T180000
DTSTAMP:20260420T125919
CREATED:20260327T200126Z
LAST-MODIFIED:20260327T200354Z
UID:10714-1776704400-1776708000@hammerchess.co.uk
SUMMARY:Women and Girls Hour - Summer Term
DESCRIPTION:An hour dedicated to women and girls. See details and joining info below: \nWomen and Girls Hour
URL:https://hammerchess.co.uk/event/women-and-girls-hour-spring-term-24/
END:VEVENT
BEGIN:VEVENT
DTSTART;TZID=Europe/London:20260420T180000
DTEND;TZID=Europe/London:20260420T190000
DTSTAMP:20260420T125919
CREATED:20260327T195616Z
LAST-MODIFIED:20260327T195617Z
UID:10702-1776708000-1776711600@hammerchess.co.uk
SUMMARY:Junior Hour - Summer Term
DESCRIPTION:An hour dedicated to the development of our junior section.
URL:https://hammerchess.co.uk/event/junior-hour-summer-term-24/
END:VEVENT
BEGIN:VEVENT
DTSTART;TZID=Europe/London:20260420T180000
DTEND;TZID=Europe/London:20260420T193000
DTSTAMP:20260420T125919
CREATED:20260415T142236Z
LAST-MODIFIED:20260415T142237Z
UID:10864-1776708000-1776713400@hammerchess.co.uk
SUMMARY:Adult Beginners’ Session
DESCRIPTION:Games and coaching for adults who are relatively inexperienced at chess\, looking to play others of a similar level over the board\, and improve their chess. \nSuitable for adults new to chess\, up to ~900 chess.com / lichess rapid/daily. \nIf you don’t know how the pieces move\, you’re very welcome – please do let our coach Jenny know in advance so we can make sure we can meet your needs.
URL:https://hammerchess.co.uk/event/adult-beginners-session-2/
END:VEVENT
BEGIN:VEVENT
DTSTART;TZID=Europe/London:20260420T190000
DTEND;TZID=Europe/London:20260420T223000
DTSTAMP:20260420T125919
CREATED:20251222T035210Z
LAST-MODIFIED:20251222T035210Z
UID:10384-1776711600-1776724200@hammerchess.co.uk
SUMMARY:Monday Club Night
DESCRIPTION:Come along and play some chess! \nMondays typically feature collaborative\, competitive or educational activities: lectures\, simuls\, handicap blitz\, GM special events etc. These will be added to the calendar once they have been planned. \nNon-members of all levels and backgrounds are very welcome to come along on a Monday to try out the club before deciding whether to sign up.
URL:https://hammerchess.co.uk/event/monday-club-night-67/
END:VEVENT
BEGIN:VEVENT
DTSTART;TZID=Europe/London:20260420T193000
DTEND;TZID=Europe/London:20260420T220000
DTSTAMP:20260420T125919
CREATED:20260420T104538Z
LAST-MODIFIED:20260420T104734Z
UID:10874-1776713400-1776722400@hammerchess.co.uk
SUMMARY:Hammer Handicap Blitz - Round 4
DESCRIPTION:9 rounds of blitz chess with a twist! 10 minutes to be shared between the two players… the stronger you are\, the less time you have on the clock! \nEnter here: https://forms.gle/gXgEtypScaQen2yu5
URL:https://hammerchess.co.uk/event/hammer-handicap-blitz-round-4/
LOCATION:MindSports Centre\, 21-23 Dalling Road\, London\, London\, W60JD\, United Kingdom
CATEGORIES:Club Nights
ORGANIZER;CN="Adam Cranston":MAILTO:adam1234321@gmail.com
END:VEVENT
BEGIN:VEVENT
DTSTART;TZID=Europe/London:20260420T193000
DTEND;TZID=Europe/London:20260420T223000
DTSTAMP:20260420T125919
CREATED:20250921T222006Z
LAST-MODIFIED:20250921T222006Z
UID:9871-1776713400-1776724200@hammerchess.co.uk
SUMMARY:Middlesex League Division 3: Ealing 2 vs Hammersmith 3
DESCRIPTION:
URL:https://hammerchess.co.uk/event/middlesex-league-division-3-ealing-2-vs-hammersmith-3-2/
LOCATION:Ealing\, Actonians Sport Club\, Gunnersbury Drive\, London\, W5 4LL\, United Kingdom
CATEGORIES:League Matches
ORGANIZER;CN="Luna Eastham":MAILTO:lunaeastham@gmail.com
END:VEVENT
END:VCALENDAR