BEGIN:VCALENDAR
VERSION:2.0
PRODID:-//Hammersmith Chess Club - ECPv6.15.20//NONSGML v1.0//EN
CALSCALE:GREGORIAN
METHOD:PUBLISH
X-WR-CALNAME:Hammersmith Chess Club
X-ORIGINAL-URL:http://hammerchess.co.uk
X-WR-CALDESC:Events for Hammersmith Chess Club
REFRESH-INTERVAL;VALUE=DURATION:PT1H
X-Robots-Tag:noindex
X-PUBLISHED-TTL:PT1H
BEGIN:VTIMEZONE
TZID:Europe/London
BEGIN:DAYLIGHT
TZOFFSETFROM:+0000
TZOFFSETTO:+0100
TZNAME:BST
DTSTART:20240331T010000
END:DAYLIGHT
BEGIN:STANDARD
TZOFFSETFROM:+0100
TZOFFSETTO:+0000
TZNAME:GMT
DTSTART:20241027T010000
END:STANDARD
BEGIN:DAYLIGHT
TZOFFSETFROM:+0000
TZOFFSETTO:+0100
TZNAME:BST
DTSTART:20250330T010000
END:DAYLIGHT
BEGIN:STANDARD
TZOFFSETFROM:+0100
TZOFFSETTO:+0000
TZNAME:GMT
DTSTART:20251026T010000
END:STANDARD
BEGIN:DAYLIGHT
TZOFFSETFROM:+0000
TZOFFSETTO:+0100
TZNAME:BST
DTSTART:20260329T010000
END:DAYLIGHT
BEGIN:STANDARD
TZOFFSETFROM:+0100
TZOFFSETTO:+0000
TZNAME:GMT
DTSTART:20261025T010000
END:STANDARD
END:VTIMEZONE
BEGIN:VEVENT
DTSTART;TZID=Europe/London:20251002T190000
DTEND;TZID=Europe/London:20251002T220000
DTSTAMP:20260421T020653
CREATED:20250921T221731Z
LAST-MODIFIED:20250921T221731Z
UID:9786-1759431600-1759442400@hammerchess.co.uk
SUMMARY:Thames Valley League Division 1: Hammersmith A vs Richmond & Twickenham A
DESCRIPTION:
URL:http://hammerchess.co.uk/event/thames-valley-league-division-1-hammersmith-a-vs-richmond-twickenham-a/
LOCATION:MindSports Centre\, 21-23 Dalling Road\, London\, London\, W60JD\, United Kingdom
CATEGORIES:League Matches
END:VEVENT
BEGIN:VEVENT
DTSTART;TZID=Europe/London:20251008T193000
DTEND;TZID=Europe/London:20251008T223000
DTSTAMP:20260421T020653
CREATED:20250921T221731Z
LAST-MODIFIED:20250921T221731Z
UID:9787-1759951800-1759962600@hammerchess.co.uk
SUMMARY:Thames Valley League Division 1: Surbiton A vs Hammersmith A
DESCRIPTION:
URL:http://hammerchess.co.uk/event/thames-valley-league-division-1-surbiton-a-vs-hammersmith-a-3/
LOCATION:Surbiton\, The Fircroft Trust\, 96 Ditton Road\, Surbiton\, Surrey\, KT66RH\, United Kingdom
CATEGORIES:League Matches
END:VEVENT
BEGIN:VEVENT
DTSTART;TZID=Europe/London:20251027T193000
DTEND;TZID=Europe/London:20251027T223000
DTSTAMP:20260421T020653
CREATED:20250921T221731Z
LAST-MODIFIED:20250921T221731Z
UID:9788-1761593400-1761604200@hammerchess.co.uk
SUMMARY:Thames Valley League Division 1: Ealing A vs Hammersmith A
DESCRIPTION:
URL:http://hammerchess.co.uk/event/thames-valley-league-division-1-ealing-a-vs-hammersmith-a-3/
LOCATION:Ealing\, Actonians Sport Club\, Gunnersbury Drive\, London\, W5 4LL\, United Kingdom
CATEGORIES:League Matches
END:VEVENT
END:VCALENDAR