BEGIN:VCALENDAR
VERSION:2.0
PRODID:-//Hammersmith Chess Club - ECPv6.15.20//NONSGML v1.0//EN
CALSCALE:GREGORIAN
METHOD:PUBLISH
X-WR-CALNAME:Hammersmith Chess Club
X-ORIGINAL-URL:http://hammerchess.co.uk
X-WR-CALDESC:Events for Hammersmith Chess Club
REFRESH-INTERVAL;VALUE=DURATION:PT1H
X-Robots-Tag:noindex
X-PUBLISHED-TTL:PT1H
BEGIN:VTIMEZONE
TZID:Europe/London
BEGIN:DAYLIGHT
TZOFFSETFROM:+0000
TZOFFSETTO:+0100
TZNAME:BST
DTSTART:20250330T010000
END:DAYLIGHT
BEGIN:STANDARD
TZOFFSETFROM:+0100
TZOFFSETTO:+0000
TZNAME:GMT
DTSTART:20251026T010000
END:STANDARD
BEGIN:DAYLIGHT
TZOFFSETFROM:+0000
TZOFFSETTO:+0100
TZNAME:BST
DTSTART:20260329T010000
END:DAYLIGHT
BEGIN:STANDARD
TZOFFSETFROM:+0100
TZOFFSETTO:+0000
TZNAME:GMT
DTSTART:20261025T010000
END:STANDARD
BEGIN:DAYLIGHT
TZOFFSETFROM:+0000
TZOFFSETTO:+0100
TZNAME:BST
DTSTART:20270328T010000
END:DAYLIGHT
BEGIN:STANDARD
TZOFFSETFROM:+0100
TZOFFSETTO:+0000
TZNAME:GMT
DTSTART:20271031T010000
END:STANDARD
END:VTIMEZONE
BEGIN:VEVENT
DTSTART;TZID=Europe/London:20260421T183000
DTEND;TZID=Europe/London:20260421T213000
DTSTAMP:20260421T021130
CREATED:20250921T221639Z
LAST-MODIFIED:20250921T221639Z
UID:9758-1776796200-1776807000@hammerchess.co.uk
SUMMARY:London League Minor: London Women Cobra vs Hammersmith Cadets
DESCRIPTION:
URL:http://hammerchess.co.uk/event/london-league-minor-london-women-cobra-vs-hammersmith-cadets/
LOCATION:Charing Cross Library\, 4-6 Charing Cross Road\, London\, WC2H 0HF\, United Kingdom
CATEGORIES:League Matches
ORGANIZER;CN="Tom Townsend":MAILTO:tomgt@globalnet.co.uk
END:VEVENT
BEGIN:VEVENT
DTSTART;TZID=Europe/London:20260421T183000
DTEND;TZID=Europe/London:20260421T213000
DTSTAMP:20260421T021130
CREATED:20250921T221639Z
LAST-MODIFIED:20250921T221639Z
UID:9759-1776796200-1776807000@hammerchess.co.uk
SUMMARY:London League Intermediate: DHSS Intermediate vs Hammersmith Hedger
DESCRIPTION:
URL:http://hammerchess.co.uk/event/london-league-intermediate-dhss-intermediate-vs-hammersmith-hedger/
LOCATION:DHSS\, Caxton House\, Tothill Street\, London\, SW1H9DA\, United Kingdom
CATEGORIES:League Matches
ORGANIZER;CN="Gianmaria Mazzaracchio":MAILTO:gianmariamazzaracchio@gmail.com
END:VEVENT
BEGIN:VEVENT
DTSTART;TZID=Europe/London:20260421T184500
DTEND;TZID=Europe/London:20260421T214500
DTSTAMP:20260421T021130
CREATED:20250921T221639Z
LAST-MODIFIED:20250921T221639Z
UID:9760-1776797100-1776807900@hammerchess.co.uk
SUMMARY:London League Division 4: Hammersmith 4 vs Mushrooms 2
DESCRIPTION:
URL:http://hammerchess.co.uk/event/london-league-division-4-hammersmith-4-vs-mushrooms-2/
LOCATION:MindSports Centre\, 21-23 Dalling Road\, London\, London\, W60JD\, United Kingdom
CATEGORIES:League Matches
ORGANIZER;CN="Nadim Osseiran":MAILTO:nadimosseiran@gmail.com
END:VEVENT
BEGIN:VEVENT
DTSTART;TZID=Europe/London:20260421T184500
DTEND;TZID=Europe/London:20260421T214500
DTSTAMP:20260421T021130
CREATED:20250921T221646Z
LAST-MODIFIED:20260306T215441Z
UID:9761-1776797100-1776807900@hammerchess.co.uk
SUMMARY:London League Major: Hammersmith Hodgson vs West London Major
DESCRIPTION:
URL:http://hammerchess.co.uk/event/london-league-major-hammersmith-hodgson-vs-west-london-major/
LOCATION:MindSports Centre\, 21-23 Dalling Road\, London\, London\, W60JD\, United Kingdom
CATEGORIES:League Matches
ORGANIZER;CN="Gaston Franco":MAILTO:gastonfranco1990@gmail.com
END:VEVENT
END:VCALENDAR